﻿BEGIN:VCALENDAR
VERSION:2.0
PRODID:-//TreesCharlotte - ECPv5.16.4//NONSGML v1.0//EN
CALSCALE:GREGORIAN
METHOD:PUBLISH
X-WR-CALNAME:TreesCharlotte
X-ORIGINAL-URL:https://treescharlotte.org
X-WR-CALDESC:Events for TreesCharlotte
REFRESH-INTERVAL;VALUE=DURATION:PT1H
X-Robots-Tag:noindex
X-PUBLISHED-TTL:PT1H
BEGIN:VTIMEZONE
TZID:America/New_York
BEGIN:DAYLIGHT
TZOFFSETFROM:-0500
TZOFFSETTO:-0400
TZNAME:EDT
DTSTART:20210314T070000
END:DAYLIGHT
BEGIN:STANDARD
TZOFFSETFROM:-0400
TZOFFSETTO:-0500
TZNAME:EST
DTSTART:20211107T060000
END:STANDARD
END:VTIMEZONE
BEGIN:VEVENT
DTSTART;TZID=America/New_York:20210407T100000
DTEND;TZID=America/New_York:20210407T233000
DTSTAMP:20260421T062031
CREATED:20210318T164550Z
LAST-MODIFIED:20210401T174855Z
UID:23970-1617789600-1617838200@treescharlotte.org
SUMMARY:Stewardship at Carmel Middle School
DESCRIPTION:For this Workday Wednesday\, TreesCharlotte is returning to the campus of Carmel Middle school to do routine maintenance on the trees planted in the past.  TreesCharlotte periodically returns to school campuses to ensure that the trees we previously planted continue to thrive.  Stewardship events are vital to our mission of expanding Charlotte’s tree canopy. \nIn addition to the mulching\, we will also be preparing seedlings to provide to people all over the city!  \nStewardship Events are a great team-building activity. If you’re interested in attending one with your teammates\, contact Heike Biller for available dates.  \n\n  \n 
URL:https://treescharlotte.org/event/stewardship-at-carmel-middle-school/
LOCATION:Carmel Middle School\, 5001 Camilla Drive\, Charlotte\, NC\, 28226\, United States
CATEGORIES:TreeMaster Event
END:VEVENT
BEGIN:VEVENT
DTSTART;TZID=America/New_York:20210410T090000
DTEND;TZID=America/New_York:20210410T130000
DTSTAMP:20260421T062031
CREATED:20210325T170554Z
LAST-MODIFIED:20210325T171119Z
UID:24015-1618045200-1618059600@treescharlotte.org
SUMMARY:TreeAmbassador Help Needed
DESCRIPTION:We need several TreeAmabassadors to help hand out seedlings for a couple of hours at the Covid vaccination event taking place at Friendship Missionary Baptist.  \n\n  \n 
URL:https://treescharlotte.org/event/treeambassador-help-needed/
LOCATION:Friendship Missionary Baptist Church\, 3400 Beatties Ford Road\, Charlotte\, NC\, 28216\, United States
CATEGORIES:TreeAmbassador Event
END:VEVENT
BEGIN:VEVENT
DTSTART;TZID=America/New_York:20210410T090000
DTEND;TZID=America/New_York:20210410T130000
DTSTAMP:20260421T062031
CREATED:20210331T115430Z
LAST-MODIFIED:20210331T115535Z
UID:24082-1618045200-1618059600@treescharlotte.org
SUMMARY:More TreeAmbassador help needed
DESCRIPTION:We need several TreeAmabassadors to help hand out seedlings for a couple of hours at the Covid vaccination distribution event taking place at Mclintock Middle School. 
URL:https://treescharlotte.org/event/treeambassador-help-needed-2-2/
LOCATION:McClintock Middle School\, 1925 Rama Road\, Charlotte\, NC\, 28212\, United States
CATEGORIES:TreeAmbassador Event
END:VEVENT
BEGIN:VEVENT
DTSTART;TZID=America/New_York:20210414T100000
DTEND;TZID=America/New_York:20210414T113000
DTSTAMP:20260421T062031
CREATED:20210218T200445Z
LAST-MODIFIED:20210415T214526Z
UID:23689-1618394400-1618399800@treescharlotte.org
SUMMARY:Stewardship at Paw Creek Elementary
DESCRIPTION:For this Stewardship event\, TreesCharlotte is returning to the campus of Paw Creek Elementary school to do routine maintenance on the trees planted in the past.  TreesCharlotte periodically returns to school campuses to ensure that the trees we previously planted continue to thrive.  Stewardship events are vital to our mission of expanding Charlotte’s tree canopy. \nWe love our volunteers\, however\, general volunteers are not needed for this event.   \nWe are in need of 3 TreeMasters to help direct volunteers.  Learn more about the TreeMaster program here.
URL:https://treescharlotte.org/event/stewardship-at-paw-creek-elementary-3/
LOCATION:Paw Creek Elementary\, 1300 Cathey Road\, Charlotte\, NC\, 28214\, United States
CATEGORIES:Volunteer Project
END:VEVENT
BEGIN:VEVENT
DTSTART;TZID=America/New_York:20210417T090000
DTEND;TZID=America/New_York:20210417T130000
DTSTAMP:20260421T062031
CREATED:20210325T171244Z
LAST-MODIFIED:20210325T171316Z
UID:24021-1618650000-1618664400@treescharlotte.org
SUMMARY:TreeAmbassador help needed!
DESCRIPTION:We need several TreeAmabassadors to help hand out seedlings for a couple of hours at the Covid vaccination event taking place at Friendship Missionary Baptist. 
URL:https://treescharlotte.org/event/treeambassador-help-needed-2/
LOCATION:Friendship Missionary Baptist Church\, 3400 Beatties Ford Road\, Charlotte\, NC\, 28216\, United States
CATEGORIES:TreeAmbassador Event
END:VEVENT
BEGIN:VEVENT
DTSTART;TZID=America/New_York:20210420T100000
DTEND;TZID=America/New_York:20210420T113000
DTSTAMP:20260421T062031
CREATED:20210303T201900Z
LAST-MODIFIED:20210416T190515Z
UID:23781-1618912800-1618918200@treescharlotte.org
SUMMARY:Volunteers Needed: Stewardship at Lawrence Orr Elementary School
DESCRIPTION:For this Stewardship event\, TreesCharlotte is returning to the campus of Lawrence Orr Elementary to do routine maintenance on the trees planted in the spring of 2019.  Volunteers will be placing fresh bags of mulch around the trees.  TreesCharlotte periodically returns to school campuses to ensure that the trees we previously planted continue to thrive.  Stewardship events are vital to our mission of expanding Charlotte’s tree canopy and are a great team building activity. \nInterested in volunteering at this event\, please complete the form below.  Deadline to register is Monday\, April 19.
URL:https://treescharlotte.org/event/stewardship-lawrence-orr/
LOCATION:Lawrence Orr Elementary\, 4835 Shamrock Drive\, Charlotte\, NC\, 28215\, United States
CATEGORIES:Volunteer Project
END:VEVENT
BEGIN:VEVENT
DTSTART;TZID=America/New_York:20210421T100000
DTEND;TZID=America/New_York:20210421T113000
DTSTAMP:20260421T062031
CREATED:20210208T193650Z
LAST-MODIFIED:20210415T214428Z
UID:23555-1618999200-1619004600@treescharlotte.org
SUMMARY:Stewardship at Winding Springs Elementary
DESCRIPTION:For this Workday Wednesday\, TreesCharlotte is returning to the campus of Winding Springs Elementary school to do routine maintenance on the trees planted in the past.  TreesCharlotte periodically returns to school campuses to ensure that the trees we previously planted continue to thrive.  Stewardship events are vital to our mission of expanding Charlotte’s tree canopy. \nWe love our volunteers\, however\, general volunteers are not needed for this event.  Please check the events calendar for other opportunities highlighted in blue. \nWe are in need of 3 TreeMasters to help direct volunteers.  Learn more about the TreeMaster program here. 
URL:https://treescharlotte.org/event/stewardship-at-reedy-creek-elementary/
LOCATION:Winding Springs Elementary\, 6601 Horace Mann Road\, Charlotte\, NC\, 28269\, United States
CATEGORIES:TreeMaster Event
END:VEVENT
END:VCALENDAR