﻿BEGIN:VCALENDAR
VERSION:2.0
PRODID:-//TreesCharlotte - ECPv5.16.4//NONSGML v1.0//EN
CALSCALE:GREGORIAN
METHOD:PUBLISH
X-ORIGINAL-URL:https://treescharlotte.org
X-WR-CALDESC:Events for TreesCharlotte
REFRESH-INTERVAL;VALUE=DURATION:PT1H
X-Robots-Tag:noindex
X-PUBLISHED-TTL:PT1H
BEGIN:VTIMEZONE
TZID:America/New_York
BEGIN:DAYLIGHT
TZOFFSETFROM:-0500
TZOFFSETTO:-0400
TZNAME:EDT
DTSTART:20200308T070000
END:DAYLIGHT
BEGIN:STANDARD
TZOFFSETFROM:-0400
TZOFFSETTO:-0500
TZNAME:EST
DTSTART:20201101T060000
END:STANDARD
END:VTIMEZONE
BEGIN:VEVENT
DTSTART;TZID=America/New_York:20200502T080000
DTEND;TZID=America/New_York:20200502T123000
DTSTAMP:20260422T050643
CREATED:20200122T164515Z
LAST-MODIFIED:20200316T142706Z
UID:16878-1588406400-1588422600@treescharlotte.org
SUMMARY:POSTPONED: 8th Annual Big Tree Summit
DESCRIPTION:PLEASE NOTE: WHILE WE HOPE TO HOLD THIS EVENT AS PLANNED\, WE ARE MONITORING THE CURRENT SITUATION AND MAY HAVE TO POSTPONE. STAY TUNED TO THIS PAGE\, YOUR E-NEWSLETTER AND OUR SOCIAL MEDIA FOR ANY CHANGES. THANK YOU FOR YOUR PATIENCE! \nReady to get tree smart? The 8th Annual Big Tree Summit\, hosted by TreesCharlotte and the city of Charlotte and sponsored by Bartlett Tree Experts\, has more ways than ever to improve your tree IQ.  \nFirst\, a few changes: We’ve moved the Summit to May to take advantage of the outdoors. Second\, it’s happening on a Saturday morning\, a more convenient time for busy people. And third\, we’ve quadrupled the number of workshops! \nHere’s a sneak peek at the details:  \nWhen: Mark Saturday\, May 2 on your calendar. Run of show: \n\nDoors open at 8 a.m.\nOpening Session starts at 9 a.m. \n35-minute workshops run from 10 a.m.-12:15 p.m. \n\nWhere: Harris Conference Center\, 3216 CPCC Harris Campus Dr. \nOpening Session:  \n\nState of the canopy report: Get the latest data about our canopy coverage\, initiatives by the city to improve and grow our urban forest and more. \nCrown Tree Awards: The unveiling of Charlotte’s Tree of the Year.\n\nWorkshops to include:  \n\nTree Ordinance Academy: Understand this critical set of regulations and the potential changes coming to them.\nForest bathing: What’s long been therapy in Japan has now come to the U.S. Prepare to immerse yourself in nature on this short walk. \nWhat’s wrong with my tree? Bring your questions and Bartlett arborists will answer them.\nTree makeover: Learn how to do light pruning\, mulching and watering.
URL:https://treescharlotte.org/event/save-the-date-8th-annual-big-tree-summit/
LOCATION:Harris Conference Center\, 3216 CPCC Harris Campus Drive\, Charlotte\, NC\, 28208\, United States
END:VEVENT
BEGIN:VEVENT
DTSTART;VALUE=DATE:20200516
DTEND;VALUE=DATE:20200517
DTSTAMP:20260422T050643
CREATED:20200506T173706Z
LAST-MODIFIED:20200511T143314Z
UID:17486-1589587200-1589673599@treescharlotte.org
SUMMARY:Big Tree/Everything-Must-Go/Drive-Thru Citywide TreeStore
DESCRIPTION:Demand has been tree-mendous and we are now sold out of trees.  Sign up for our e-newsletter to stay informed of  all our happenings\, including more TreeStores next season.\nReady to try something new?  In an effort to clear our inventory of trees and keep everyone safe\, we are hosting what we’re calling the Big Tree/Everything-Must-Go/Drive-Thru Citywide TreeStore. We want to thank our partnership with Duke Energy/Piedmont Natural Gas as well as Lending Tree\, the Charlotte 2020 Host Committee and the 2020 Convention Planners for making this event possible. \nTo ensure the event follows social distancing guidelines\, some details are different from our typical TreeStores\, so read carefully: \nHere’s what you need to know:  \n\nYou must pre-register for trees. Registration opens Monday\, May 11 and closes at midnight Wednesday\, May 13.  Scroll down below the list of species for the link.\nEach address/household can get up to 3 trees. While the registration form does not limit the total number of trees\, registrations requesting more than 3 trees will be notified and removed.\nThis TreeStore will be drive-thru only to limit personal contact. You will be expected to load your own trees and mulch. Neighbors are encouraged to work together to pick up multiple orders with one vehicle.\nOn the registration form\, you will choose a time-frame to pick up your tree ( noon-1 p.m.). You must pick up your trees at some point during your time-frame.  Trees not picked up will be forfeited and placed back into inventory to be given out at the end of the event.\nAbout the trees: The trees are in 7-gallon containers\, measure 6-15 feet tall and weigh about 20-25 pounds. The mulch weighs 25 pounds/bag. As you’ll see below\, you have 7 species to choose from. Links are provided to learn more about each species; please do your homework first to ensure you’re putting the right tree in the right place.\nImportant note: TreesCharlotte typically does not distribute trees this late in the spring – newly planted trees fare better when there’s cooler weather ahead. We hope that with your love and care\, they will flourish once planted. But if they don’t\, we’ll be back in the fall with more TreeStores!\nTreesCharlotte will send a follow-up email with planting instructions – including a planting video – watering instructions and specific information about the species you select.\nTreesCharlotte’s mission is to help the City of Charlotte reach its goal of 50% tree canopy by 2050.  We\, therefore\, limit participation to residents within Charlotte city limits.  At this time\, we do not serve Matthews\, Mint Hill\, Pineville\, Huntersville\, Davidson\, Cornelius\, Mecklenburg County or other municipalities outside Charlotte.\n\nWe’d like to thank Noble Smoke for hosting us in their parking lot. If you haven’t tried them before\, consider ordering some amazing BBQ from them when you pick up your trees. Ordering details can be found here. \nTreesCharlotte is a non-profit organization that relies on donations to be able to host events like this.  A suggested donation of $30 is greatly appreciated and would help us give more trees to Charlotte residents. \nYou’ll be able to choose from the following trees when you register (registration link below opens at 5 p.m.). Quantities are limited. Register early to ensure the best selection.   \nSelections are final and once registered\, cannot be changed.  Be sure to research which tree will work best for your yard before registering. \n\n \nOvercup Oak\n\n \nOak\, Overcup\n\n\n\n \nSold Out\n\n \nOak\, Shumard – Sold Out\n\n\n\n \nWillow Oak\n\n \nOak\, Willow\n\n\n 
URL:https://treescharlotte.org/event/drivethru-citywide-treestore/
LOCATION:Noble Smoke\, 2216 Freedom Drive\, Charlotte\, NC\, 28208\, United States
CATEGORIES:Community Event
END:VEVENT
BEGIN:VEVENT
DTSTART;TZID=America/New_York:20200516T100000
DTEND;TZID=America/New_York:20200516T130000
DTSTAMP:20260422T050644
CREATED:20200214T152840Z
LAST-MODIFIED:20200511T143904Z
UID:17095-1589623200-1589634000@treescharlotte.org
SUMMARY:CANCELLED: Meet TreesCharlotte: Birds\, Nature and Community Day
DESCRIPTION:Come spend some time with TreesCharlotte at the 2nd Annual Birds\, Nature and Community Day sponsored by the Mecklenburg Audubon Society and the North End Community Coalition. \n 
URL:https://treescharlotte.org/event/meet-treescharlotte-birds-nature-and-community-day/
LOCATION:Druid Hills Neighborhood\, 2801 Poinsett Street\, Charlotte\, North Carolina\, 28206
CATEGORIES:TreeAmbassador Event
END:VEVENT
BEGIN:VEVENT
DTSTART;TZID=America/New_York:20200523T120000
DTEND;TZID=America/New_York:20200523T150000
DTSTAMP:20260422T050644
CREATED:20200228T182828Z
LAST-MODIFIED:20200511T151533Z
UID:17241-1590235200-1590246000@treescharlotte.org
SUMMARY:POSTPONED: Meet TreesCharlotte: Faith Church's Jam Fest
DESCRIPTION:Spend time with TreesCharlotte at Faith Christian Methodist Episcopal Church\, who is hosting their annual Jam Fest! 2\,000 people will attend a “Love to the Community Jam Fest Outreach on Saturday\, May 23\, 2020. This event will consist of Free Bikes\, Free Hair Cuts\, Health Fair\, Job Fair\, Hot Dogs\, Groceries\, I-pods\, Pie Eating Contest\, I-Pad\, games\, giveaways\, free bibles\, toys\, prizes\, moon bounce\, clothing and much more. All these items will be FREE!
URL:https://treescharlotte.org/event/meet-treescharlotte-faith-churchs-jam-fest/
LOCATION:Faith CME Church\, 457 Wellingford Street\, Charlotte\, NC\, 28213\, United States
CATEGORIES:TreeAmbassador Event
END:VEVENT
BEGIN:VEVENT
DTSTART;TZID=America/New_York:20200528T170000
DTEND;TZID=America/New_York:20200528T180000
DTSTAMP:20260422T050644
CREATED:20200522T181414Z
LAST-MODIFIED:20200527T121505Z
UID:17965-1590685200-1590688800@treescharlotte.org
SUMMARY:Final Season Ending Citywide Drive-thru TreeStore
DESCRIPTION:Thank you to the many Charlotteans that have registered to get trees.  Registration is now closed.  We will see you again in late September. \nThis is it. Our final Season End Citywide Drive-thru TreeStore.  We have a limited number of large maturing trees that are in need of new homes. \nWe want to thank our partnership with Duke Energy/Piedmont Natural Gas as well as Lending Tree\, the Charlotte 2020 Host Committee and the 2020 Convention Planners for making this event possible. \nTo ensure the event follows social distancing guidelines\, some details are different from our typical TreeStores\, so read carefully: \nHere’s what you need to know:  \n\nYou must pre-register for trees. Registration opens Sunday\, May 24 and closes at midnight Tuesday\, May 26.  Scroll down to below the list of species for the link.\nEach Charlotte address/household can get up to 3 trees.\nTrees will be given out on a first come\, first served basis.  Please do research ahead of time to know which trees will work best for your yard.  Links are provided below to learn more about the trees. We will not be able to answer any tree related questions at the event.\nThis TreeStore will be drive-thru only to limit personal contact. You will be expected to load your own trees and mulch. Neighbors are encouraged to work together to pick up multiple orders with one vehicle.\nAbout the trees: The trees are in 7-gallon containers\, measure 6-15 feet tall and weigh about 20-25 pounds. The mulch weighs 25 pounds/bag. As you’ll see below\, you have 10 species to choose from. Links are provided to learn more about each species; please do your homework first to ensure you’re putting the right tree in the right place.\nImportant note: TreesCharlotte typically does not distribute trees this late in the spring – newly planted trees fare better when there’s cooler weather ahead. We hope that with your love and care\, they will flourish once planted. But if they don’t\, we’ll be back in the fall with more TreeStores!\nTreesCharlotte will send a follow-up email with planting instructions – including a planting video – watering instructions and specific information about the species you select.\nTreesCharlotte’s mission is to help the City of Charlotte reach its goal of 50% tree canopy by 2050.  We\, therefore\, limit participation to residents within Charlotte city limits.  At this time\, we do not serve Matthews\, Mint Hill\, Pineville\, Huntersville\, Davidson\, Cornelius\, Mecklenburg County or other municipalities outside Charlotte.\n\nTreesCharlotte is a non-profit organization that relies on donations to be able to host events like this.  A suggested donation of $10/tree is greatly appreciated and would help us give more trees to Charlotte residents. \nThe following trees will be given out on a first come\, first served basis (registration link below opens May 24).  \nBe sure to research which tree will work best for your yard.  We will not be able to answer any questions at the event. \n\n \nBlackgum\n\n \nBlackgum – 2 available\n\n\n\n \nPrinceton Elm\n\n \nElm – 12 available\n\n\n\n \nGinkgo\n\n \nGinkgo – 2 available\n\n\n\n \nNellie Stevens Holly\n\n \nHolly – 4 available\n\n\n\n \nAmerican Hornbeam\n\n \nHornbeam – 7 available\n\n\n\n \nNuttall Oak\n\n \nOak\, Nuttall – 1 available\n\n\n\n \nOvercup Oak\n\n \nOak\, Overcup – 16 available\n\n\n\n \nShumard Oak\n\n \nOak\, Shumard – 14 available\n\n\n\n \nSwamp White Oak\n\n \nOak\, Swamp White – 2 available\n\n\n\n \nWillow Oak\n\n \nOak\, Willow – 20 available\n\n\nRegistration has closed. We’ll start back up in late September with all new TreeStores. Stay tuned.
URL:https://treescharlotte.org/event/season-end-treestore/
LOCATION:City of Charlotte Landscape Management\, 701 Tuckaseegee Road\, Charlotte\, NC\, 28208\, United States
CATEGORIES:TreesCharlotte Event
END:VEVENT
END:VCALENDAR