﻿BEGIN:VCALENDAR
VERSION:2.0
PRODID:-//TreesCharlotte - ECPv5.16.4//NONSGML v1.0//EN
CALSCALE:GREGORIAN
METHOD:PUBLISH
X-WR-CALNAME:TreesCharlotte
X-ORIGINAL-URL:https://treescharlotte.org
X-WR-CALDESC:Events for TreesCharlotte
REFRESH-INTERVAL;VALUE=DURATION:PT1H
X-Robots-Tag:noindex
X-PUBLISHED-TTL:PT1H
BEGIN:VTIMEZONE
TZID:America/New_York
BEGIN:DAYLIGHT
TZOFFSETFROM:-0500
TZOFFSETTO:-0400
TZNAME:EDT
DTSTART:20200308T070000
END:DAYLIGHT
BEGIN:STANDARD
TZOFFSETFROM:-0400
TZOFFSETTO:-0500
TZNAME:EST
DTSTART:20201101T060000
END:STANDARD
END:VTIMEZONE
BEGIN:VEVENT
DTSTART;TZID=America/New_York:20200201T090000
DTEND;TZID=America/New_York:20200201T110000
DTSTAMP:20260422T205742
CREATED:20191121T144439Z
LAST-MODIFIED:20200117T142438Z
UID:16285-1580547600-1580554800@treescharlotte.org
SUMMARY:Matthews TreeStore
DESCRIPTION:Thanks to our partnership with Lending Tree\, Charlotte 2020 Host Committee and 2020 Convention Planners\, we are excited to bring our very first TreeStore to the City of Matthews! Residents of Matthews will have the opportunity to claim up to 400 trees. We’ll have a big mix of species\, from small flowering to canopy building to evergreen screening. There’s something for everybody! \nHere’s what you need to know:  \n\nEach Matthews’ household is eligible for up to two free trees.  Limit 2 trees per address.\nProof of Matthews residency (such as a driver’s license\, utility bill\, etc.) must be shown at the event in order to participate.\nA valid email address is required to register.\nYou will complete and sign a Stewardship Pledge Form (mandatory) and declare your pledge to take care of the tree(s) we provide.\nAt the TreeStore\, you will be taught how to properly plant and care for your tree(s).  Tree education is mandatory for everyone.\nWe cannot guarantee species type or quantities and will not know what will be available until the morning of the event.\nTrees are in 7-gallon containers\, range from 6-10′ tall\, and will not be reserved or transported.\n\nTreesCharlotte is a non-profit organization that relies on donations to be able to host events like this.  A suggested donation of $20 is greatly appreciated and would help us give more trees to Charlotte residents. \nRegistration is encouraged and will close January 28 at midnight.  \nRegister here \nRegistration does not guarantee you trees or tree varieties\, however\, it does get you a sneak peek (via email a few days before the event) of the varieties we hope to offer. \nWe expect to give out close to 400 trees on a first-come\, first-served basis. Expect long lines as this will be a popular event. \nWe currently have enough TreeMasters and for this event!  \nVolunteers are needed to help move and distribute trees and mulch into participant’s cars.  Register to volunteer below.
URL:https://treescharlotte.org/event/matthews-treestore/
LOCATION:Matthews United Methodist Church\, 801 S Trade Street\, Matthews\, NC\, 28105
CATEGORIES:Volunteer Project
END:VEVENT
BEGIN:VEVENT
DTSTART;TZID=America/New_York:20200205T100000
DTEND;TZID=America/New_York:20200205T110000
DTSTAMP:20260422T205742
CREATED:20191112T162952Z
LAST-MODIFIED:20200117T142642Z
UID:16185-1580896800-1580900400@treescharlotte.org
SUMMARY:ABC Academy TreeDay
DESCRIPTION:TreesCharlotte will be planting approximately 10 trees on the Smart Start campus of ABC Academy. \nTo ensure a safe and enjoyable event\, we are limiting the number of volunteers to 20 for this TreeDay. Register early as our events “sell out” quickly.  0 spots remain. \nVolunteer groups of 10 or more\, please contact events director\, Zack Agerton to determine if there is enough capacity. \nTree planting events are great for families and all ages are welcome. To ensure accurate active volunteer counts\, please list all participants on the registration form\, along with children’s ages. Children 16 and younger must be accompanied by an adult. \nEvents are held rain or shine.  A modest rainfall actually provides ideal planting conditions. \nDeadline to register to volunteer is Wednesday\, January 29.
URL:https://treescharlotte.org/event/abc-academy-treeday/
LOCATION:ABC Academy\, 4821 E W.T. Harris Blvd\, Charlotte\, NC\, 28215
CATEGORIES:Volunteer Project
END:VEVENT
BEGIN:VEVENT
DTSTART;VALUE=DATE:20200208
DTEND;VALUE=DATE:20200209
DTSTAMP:20260422T205742
CREATED:20191127T145824Z
LAST-MODIFIED:20200219T160829Z
UID:16372-1581120000-1581206399@treescharlotte.org
SUMMARY:Caldwell Farms NeighborWoods
DESCRIPTION:Having completed a NeighborWoods Application and thanks to the generosity of  LendingTree\, Charlotte 2020 Host Committee and 2020 Convention Planners\, TreesCharlotte is pleased to partner with the Caldwell Farms neighborhood to plant trees in their common areas and to provide trees to their residents.  Residents are invited to enjoy coffee and donuts\, talk to tree experts about the right trees for their yard\, take a 15-minute tree-planting clinic and bring home up to three trees! \nPre-registration for trees is required by clicking here. You must be a resident of Caldwell Farms.  Deadline to register is Sunday\, Feb. 2nd. \nThe tree give-a-away portion of the day will run from 9:00-10:00am. \nThe trees: Tentative species list is yet to be determined. Once confirmed\, a list of species will be emailed to registrants.  (Trees are a first-come\, first-served basis and cannot be reserved in advance) \nTree specs: 5-10 feet tall\, 1-inch caliper\, aged 2-4 years old\, potted in 7-gallon containers. Trees would retail for $75-$150. \nTree clinic: Every recipient will attend a tree-planting clinic the morning of the event (15 minutes) and sign a stewardship pledge. \nRegistration: Registration is required. If you register\, please make every effort to pick up trees the morning of February 8 or arrange for somebody to pick them up for you. Registration does not guarantee species; all trees are first-come\, first-served the morning of the event. \nVOLUNTEERS NEEDED!\nVolunteers and TreeMasters are needed to help plant 32 trees for residents unable to do so and to help with tree and mulch distribution. The planting portion of this event will take place from 10:00-11:00am. \nTo ensure a safe and enjoyable event\, we are limiting the number of volunteers to 20 for this TreeDay. Register early as our events “sell out” quickly.  15 spots remain\, but we are still looking for a few TreeMasters!  \nTree planting events are great for families and everyone is welcome. To ensure accurate active volunteer counts\, please list all participants on the registration form\, along with children’s ages. Children 16 and younger must be accompanied by an adult. \nDeadline to register to volunteer is February 9. \nOnce registered\, more detailed information will be emailed to you the week of the event. \n 
URL:https://treescharlotte.org/event/caldwell-farms-neighborwoods/
LOCATION:Caldwell Farms\, 4704 Abendego road\, Charlotte\, NC\, 28213\, United States
CATEGORIES:Volunteer Project
END:VEVENT
BEGIN:VEVENT
DTSTART;TZID=America/New_York:20200208T090000
DTEND;TZID=America/New_York:20200208T113000
DTSTAMP:20260422T205742
CREATED:20191113T141216Z
LAST-MODIFIED:20200130T171759Z
UID:16197-1581152400-1581161400@treescharlotte.org
SUMMARY:Vaughan Academy of Technology TreeDay
DESCRIPTION:Thanks to our partnership with LendingTree\, Charlotte 2020 Host Committee and 2020 Convention Planners\, TreesCharlotte will be planting approximately 120 trees on the campus of Dorothy J. Vaughan Academy of Technology. \nTo ensure a safe and enjoyable event\, we are limiting the number of volunteers to 70 for this TreeDay. Register early as our events “sell-out” quickly.  40 spots remain.  (We have enough TreeMaster help for this one and are now seeking volunteers only.  Consider signing up for the Caldwell Farms event on the same day.) \nVolunteer groups of 10 or more\, please contact the events director\, Heike Biller to determine if there is enough capacity. \nTree planting events are great for families and all ages are welcome. To ensure accurate active volunteer counts\, please list all participants on the registration form\, along with children’s ages. Children 16 and younger must be accompanied by an adult. \nChildren’s activities will be provided between 9:00 and 10:00 am by our community partner\, NC Wildlife Federation. \nTreesCharlotte is excited to partner with CupLux Coffee to provide our volunteers with delicious\, handcrafted coffee at our events. \nEvents are held rain or shine.  A modest rainfall actually provides ideal planting conditions. \nDeadline to register to volunteer is Sunday\, February 2. \nOnce registered\, more detailed information will be emailed to you the week of the event.
URL:https://treescharlotte.org/event/vaughan-academy-of-technology-treeday/
LOCATION:Dorothy J. Vaughan Academy of Technology\, 8601 Old Concord Road\, Charlotte\, NC\, 28213\, United States
CATEGORIES:Volunteer Project
END:VEVENT
BEGIN:VEVENT
DTSTART;TZID=America/New_York:20200209T140000
DTEND;TZID=America/New_York:20200209T153000
DTSTAMP:20260422T205742
CREATED:20191121T163049Z
LAST-MODIFIED:20200113T150545Z
UID:16295-1581256800-1581262200@treescharlotte.org
SUMMARY:Hebrew Cemetery TreeDay
DESCRIPTION:Volunteers from the Jewish community will be planting trees in the Hebrew Cemetery. \nWe love our volunteers\, however\, general volunteers are not needed for this event.  Check the events calendar for other volunteer opportunities. \nTreeMasters are needed for this event. To learn more about the TreeMaster program\, please click here.
URL:https://treescharlotte.org/event/hebrew-cemetery-treeday/
LOCATION:Hebrew Cemetery\, 1801 Statesville Ave\, Charlotte\, NC\, 28206\, United States
CATEGORIES:Community Event
END:VEVENT
BEGIN:VEVENT
DTSTART;TZID=America/New_York:20200209T140000
DTEND;TZID=America/New_York:20200209T153000
DTSTAMP:20260422T205742
CREATED:20200128T202119Z
LAST-MODIFIED:20200203T154149Z
UID:16919-1581256800-1581262200@treescharlotte.org
SUMMARY:TreeAmbassador Spring Training
DESCRIPTION:Ready to lean into trees in 2020? Become a TreeAmbassador! \nA TreeAmbassador is a volunteer who is enthusiastic about TreesCharlotte and can deliver a positive and clear message about our mission.  TreeAmbassadors represent TreesCharlotte at various outreach events.  Candidates should be comfortable both talking to an audience and listening to their comments and concerns.  It will be your job to help educate the public about our beautiful canopy\, the risks facing it and how everybody can help protect it. \nWe offer TreeAmbassador training twice a year – early spring and early fall. Our next one is slated for Sunday\, Feb. 9\, at the Ivory/Baker Recreation Center\, 1920 Stroud Park Court\, from 2-3:30 p.m. \nNote: If you are interested in becoming a TreeMaster – a volunteer who oversees tree plantings – our next training will be in the fall. 
URL:https://treescharlotte.org/event/treeambassador-spring-training/
LOCATION:Ivory/Baker Recreation Center\, 1920 Stroud Park Court\, Charlotte\, NC\, 28206\, United States
END:VEVENT
BEGIN:VEVENT
DTSTART;TZID=America/New_York:20200216T123000
DTEND;TZID=America/New_York:20200216T170000
DTSTAMP:20260422T205742
CREATED:20200114T180912Z
LAST-MODIFIED:20200115T152823Z
UID:16778-1581856200-1581872400@treescharlotte.org
SUMMARY:Meet TreesCharlotte: Family Fun Day
DESCRIPTION:Come join us at the Hempy Program Center’s Family Fun Day! Engage in some winter fun by sipping on some hot chocolate\, jumping on our nature trails for a family hike\, or climbing to our peaks on our high ropes courses. Register today at the Sales and Service desk at the Brace Family YMCA! \nKeep an eye out as TreesCharlotte will have a table for kids to create necklaces and work with seedlings!
URL:https://treescharlotte.org/event/meet-treescharlotte-family-fun-day/
LOCATION:Hemby Program Center\, 9760 Happy Valley Drive\, Charlotte\, 28270
CATEGORIES:TreeAmbassador Event
END:VEVENT
BEGIN:VEVENT
DTSTART;VALUE=DATE:20200221
DTEND;VALUE=DATE:20200222
DTSTAMP:20260422T205742
CREATED:20191210T153752Z
LAST-MODIFIED:20191213T150340Z
UID:16480-1582243200-1582329599@treescharlotte.org
SUMMARY:Johnny Cake Lane TreeDay
DESCRIPTION:TreesCharlotte is partnering with the City of Charlotte to plant approximately 40 trees in a community park based on Johnny Cake Lane. \nWe love our volunteers\, however\, general volunteers are not needed for this event.  Please check the events calendar for other opportunities highlighted in blue. \nWe are in need of  TreeMasters to help plant and direct a few volunteers.  Learn more about the TreeMaster program here.
URL:https://treescharlotte.org/event/johnny-cake-lane-treeday/
CATEGORIES:TreesCharlotte Event
END:VEVENT
BEGIN:VEVENT
DTSTART;TZID=America/New_York:20200222T100000
DTEND;TZID=America/New_York:20200222T113000
DTSTAMP:20260422T205742
CREATED:20191127T145901Z
LAST-MODIFIED:20200213T160019Z
UID:16370-1582365600-1582371000@treescharlotte.org
SUMMARY:University City Zip Code TreeStore 2020 - 28213\, 28262\, 28269
DESCRIPTION:University City\, are you ready for some trees?! Thanks to our partnership with LendingTree\, Charlotte 2020 Host Committee and 2020 Convention Planners\, we are excited to bring our TreeStore to University City.  In an effort to get more trees into less treed areas\, we invite residents who live in the 28213\, 28262\, or 28269 zip codes to this Zip Code TreeStore! If you’re a resident of any of these zip codes\, pre-register and help make University City one of the best-canopy’d communities in the Queen City. \nHere’s what you need to know:  \n\nEach address within zip code 28213\, 28262\, or 28269 is eligible for up to two free trees.  Limit 2 trees per address.\nProof of zip code residency (such as a driver’s license\, utility bill\, etc.) must be shown at the event in order to participate.\nA valid email address is required to register.\nYou will sign a Stewardship Pledge Form (mandatory) and declare your pledge to take care of the tree(s) we provide.\nAt the TreeStore\, you will be taught how to properly plant and care for your tree(s).  Tree training is mandatory.\nWe cannot guarantee species type or quantities and will not know what will be available until the morning of the event.\nTrees are in 7-gallon containers\, range from 6-10′ tall\, and will not be reserved or transported.\n\nTreesCharlotte is a non-profit organization that relies on donations to be able to host events like this.  A suggested donation of $20 is greatly appreciated and would help us give more trees to Charlotte residents. \nRegistration is required and will be open February 4 – 18. Deadline to register is midnight\, February 18.  \nRegister here! \nRegistration does not guarantee you trees or tree varieties\, however\, it does get you a sneak peek (via email a few days before the event) of the varieties we hope to offer. \nWe expect to give out close to 300 trees on a first come\, first served basis. Expect long lines as this will be a popular event. \nThank you to all our TreeMasters that have registered\, we now have enough help and are only seeking a few volunteers to help direct traffic across the campus and distribute and load trees and mulch into participants’ cars.  Register to volunteer below. Deadline to register to volunteer is Feb. 16.
URL:https://treescharlotte.org/event/university-city-zip-code-treestore-2020/
LOCATION:UNC Charlotte\, 9227 Martin Village Road\, Charlotte\, NC\, 28223\, United States
CATEGORIES:Community Event
END:VEVENT
BEGIN:VEVENT
DTSTART;TZID=America/New_York:20200222T100000
DTEND;TZID=America/New_York:20200222T120000
DTSTAMP:20260422T205742
CREATED:20191210T145809Z
LAST-MODIFIED:20200211T150921Z
UID:16472-1582365600-1582372800@treescharlotte.org
SUMMARY:Welwyn NeighborWoods
DESCRIPTION:Having completed a NeighborWoods Application and having been accepted\, TreesCharlotte is pleased to partner with the Welwyn neighborhood to plant 20 trees in their common areas and along the Greenway. \nTo ensure a safe and enjoyable event\, we are limiting the number of volunteers to 15 to help plant trees. Register early as our events “sell out” quickly.  5 spots remaining. \nVolunteer groups of 10 or more\, please contact events director\, Zack Agerton to determine if there is enough capacity. \nTree planting events are great for families and everyone is welcome. To ensure accurate active volunteer counts\, please list all participants on the registration form\, along with children’s ages. Children 16 and younger must be accompanied by an adult.  Events are held rain or shine.  A modest rainfall actually provides ideal planting conditions. \nDeadline to register to volunteer is Tuesday\, February 18. \nEvents are held rain or shine.  A modest rainfall actually provides ideal planting conditions.
URL:https://treescharlotte.org/event/welwyn-neighborwoods/
LOCATION:Welwyn Neighborhood\, 9334 stanborough ct\, charlotte\, NC\, 28262
CATEGORIES:TreesCharlotte Event
END:VEVENT
BEGIN:VEVENT
DTSTART;TZID=America/New_York:20200226T100000
DTEND;TZID=America/New_York:20200226T110000
DTSTAMP:20260422T205742
CREATED:20200110T173035Z
LAST-MODIFIED:20200204T141057Z
UID:16698-1582711200-1582714800@treescharlotte.org
SUMMARY:Childcare Network 54 TreeDay
DESCRIPTION:TreesCharlotte will be planting approximately 10 trees on the Smart Start campus of Childcare Network 54. \nTo ensure a safe and enjoyable event\, we are limiting the number of volunteers to 15 for this TreeDay. Register early as our events “sell out” quickly.  6 spots remain. \nVolunteer groups of 10 or more\, please contact events director\, Zack Agerton to determine if there is enough capacity. \nTree planting events are great for families and all ages are welcome. To ensure accurate active volunteer counts\, please list all participants on the registration form\, along with children’s ages. Children 16 and younger must be accompanied by an adult. \nEvents are held rain or shine.  A modest rainfall actually provides ideal planting conditions.
URL:https://treescharlotte.org/event/childcare-network-54-treeday/
LOCATION:Childcare Network 54\, 430 West Sugar Creek Road\, Charlotte\, NC\, 28213\, United States
CATEGORIES:Volunteer Project
END:VEVENT
BEGIN:VEVENT
DTSTART;TZID=America/New_York:20200227T180000
DTEND;TZID=America/New_York:20200227T190000
DTSTAMP:20260422T205742
CREATED:20200114T150754Z
LAST-MODIFIED:20200115T152415Z
UID:16763-1582826400-1582830000@treescharlotte.org
SUMMARY:Meet TreesCharlotte: Steele Creek Residents Association Meeting
DESCRIPTION:Attend the Steele Creek Residents Association meeting where presentations will begin at 7:00 PM. Speakers from Mecklenburg County Park & Rec will talk about the greenway and other park plans in Steele Creek as well as have a discussion of Steele Creek’s future. The Meet & Mingle period will be from 6:00 pm to 7:00 pm\, where TreesCharlotte will have a table. \nFor more information\, you can go to https://www.steelecreekresidents.org/Newspages/news205a_2019Meeting.htm
URL:https://treescharlotte.org/event/meet-treescharlotte-steele-creek-residents-association-meeting/
LOCATION:Kennedy Middle School\, 4000 Gallant Lane\, Charlotte\, NC\, 28273\, United States
CATEGORIES:TreeAmbassador Event
END:VEVENT
BEGIN:VEVENT
DTSTART;VALUE=DATE:20200229
DTEND;VALUE=DATE:20200301
DTSTAMP:20260422T205742
CREATED:20191118T163952Z
LAST-MODIFIED:20200224T143057Z
UID:16268-1582934400-1583020799@treescharlotte.org
SUMMARY:Shuffletown Park TreeDay
DESCRIPTION:TreesCharlotte is once again partnering with District Rotary to plant trees in Shuffletown Park. \n  \nTo ensure a safe and enjoyable event\, we are limiting the number of volunteers to 50 for this TreeDay. Register early as our events “sell out” quickly. We love our volunteers\, however we have reached capacity for this event.   Please visit our events calendar for other volunteer opportunities. \nTree planting events are great for families and everyone is welcome. To ensure accurate active volunteer counts\, please list all participants on the registration form\, along with children’s ages. Children 16 and younger must be accompanied by an adult. \nEvents are held rain or shine.  A modest rainfall actually provides ideal planting conditions. \nDeadline to register is Sunday\, February 23. \nOnce registered\, more detailed information will be emailed to you the week of the event. \nWe are still in need of TreeMasters\, please log in to complete registration. 
URL:https://treescharlotte.org/event/shuffletown-park-treeday/
LOCATION:Shuffletown Park\, 9500 Bellhaven Blvd\, Charlotte\, NC\, 28214\, United States
CATEGORIES:Volunteer Project
END:VEVENT
BEGIN:VEVENT
DTSTART;TZID=America/New_York:20200229T090000
DTEND;TZID=America/New_York:20200229T113000
DTSTAMP:20260422T205742
CREATED:20191118T161229Z
LAST-MODIFIED:20200218T204128Z
UID:16264-1582966800-1582975800@treescharlotte.org
SUMMARY:Oakdale Elementary TreeDay
DESCRIPTION:Thanks to our partnership with LendingTree\, Charlotte 2020 Host Committee and 2020 Convention Planners\, TreesCharlotte will be planting approximately 120 trees on the campus of Oakdale Elementary School. \nTo ensure a safe and enjoyable event\, we are limiting the number of volunteers to 75 for this TreeDay. Register early as our events “sell out” quickly.  0 spots remain. \nVolunteer groups of 10 or more\, please contact events director\, Heike Biller to determine if there is enough capacity. \nTree planting events are great for families and all ages are welcome. To ensure accurate active volunteer counts\, please list all participants on the registration form\, along with children’s ages. Children 16 and younger must be accompanied by an adult. \nChildren activities will be provided by our community partner\, NC Wildlife Federation. \nTreesCharlotte is exited to partner with our official coffee sponsor\, CupLux Coffee to provide our volunteers with delicious\, hand crafted coffee at our events. \nEvents are held rain or shine.  A modest rainfall actually provides ideal planting conditions. \nDeadline to register to volunteer is Sunday\, February 23. \nOnce registered\, more detailed information will be emailed to you the week of the event. \nTreeMasters – we have enough help for this event\, consider registering for the Shuffletown event on the same day.
URL:https://treescharlotte.org/event/oakdale-elementary-treeday/
LOCATION:Oakdale Elementary\, 1825 Oakdale Road\, Charlotte\, NC\, 28216\, United States
CATEGORIES:Volunteer Project
END:VEVENT
BEGIN:VEVENT
DTSTART;TZID=America/New_York:20200229T090000
DTEND;TZID=America/New_York:20200229T130000
DTSTAMP:20260422T205742
CREATED:20200114T152823Z
LAST-MODIFIED:20200128T151434Z
UID:16770-1582966800-1582981200@treescharlotte.org
SUMMARY:Meet TreesCharlotte: Wrap seedlings with us!
DESCRIPTION:We are excited to announce that TreesCharlotte is joining in a partnership with the Hemby Program Center and Brace Family YMCA to wrap 1\,000 seedlings\, which we will distribute across the city! \nThe facility will be open for activities including archery\, climbing\, fishing\, the moon bounce and more. This event is FREE for everyone! I have included the flyer\, above\, for distribution purposes. \nWe are looking for a group of our TreeAmbassadors to help out at this event!
URL:https://treescharlotte.org/event/meet-treescharlotte-expand-the-canopy/
LOCATION:Hemby Program Center\, 9760 Happy Valley Drive\, Charlotte\, 28270
CATEGORIES:TreeAmbassador Event
END:VEVENT
END:VCALENDAR