﻿BEGIN:VCALENDAR
VERSION:2.0
PRODID:-//TreesCharlotte - ECPv5.16.4//NONSGML v1.0//EN
CALSCALE:GREGORIAN
METHOD:PUBLISH
X-WR-CALNAME:TreesCharlotte
X-ORIGINAL-URL:https://treescharlotte.org
X-WR-CALDESC:Events for TreesCharlotte
REFRESH-INTERVAL;VALUE=DURATION:PT1H
X-Robots-Tag:noindex
X-PUBLISHED-TTL:PT1H
BEGIN:VTIMEZONE
TZID:America/New_York
BEGIN:DAYLIGHT
TZOFFSETFROM:-0500
TZOFFSETTO:-0400
TZNAME:EDT
DTSTART:20190310T070000
END:DAYLIGHT
BEGIN:STANDARD
TZOFFSETFROM:-0400
TZOFFSETTO:-0500
TZNAME:EST
DTSTART:20191103T060000
END:STANDARD
END:VTIMEZONE
BEGIN:VEVENT
DTSTART;TZID=America/New_York:20190914T080000
DTEND;TZID=America/New_York:20190914T120000
DTSTAMP:20260423T230648
CREATED:20190910T161736Z
LAST-MODIFIED:20190910T191823Z
UID:15528-1568448000-1568462400@treescharlotte.org
SUMMARY:Meet TreesCharlotte: Cotswold Farmers Market
DESCRIPTION:Talk trees as you enjoy a morning of local produce\, breads\, meats\, eggs — even flowers and soaps — at the Cotswold Farmers Market this Saturday. TreesCharlotte will be there manning a table from 8 a.m.-noon with tree trivia\, news about our upcoming season and tree cookie necklaces for kids! \n  \n  \n  \n  \n  \n 
URL:https://treescharlotte.org/event/meet-treescharlotte-cotswold-farmers-market/
LOCATION:Cotswold Farmers Market\, 309 S. Sharon Amity Road\, Charlotte\, NC\, 28211\, United States
CATEGORIES:Community Event
END:VEVENT
BEGIN:VEVENT
DTSTART;TZID=America/New_York:20190917T173000
DTEND;TZID=America/New_York:20190917T203000
DTSTAMP:20260423T230648
CREATED:20190723T170928Z
LAST-MODIFIED:20190808T171549Z
UID:15089-1568741400-1568752200@treescharlotte.org
SUMMARY:TreeMaster/TreeAmbassador Certification Course\, Sept. 2019
DESCRIPTION:Thanks to our official TreeMaster/TreeAmbassador sponsor\, the Charlotte office of \n \nWhat is a TreeMaster? \nA TreeMaster is a volunteer who has received training on volunteer management\, proper planting techniques and care and maintenance of trees.  TreeMasters serve as volunteer leaders at our planting events and TreeStores throughout Charlotte.  They help with event setup\, tree and mulch placement\, volunteer engagement\, and event breakdown. \nWhat is a TreeAmbassador? \nTreeAmbassadors represent TreesCharlotte at various outreach events. They are enthusiastic about TreesCharlotte and can deliver a positive and clear message about our mission. Candidates should be comfortable both talking to an audience and listening to their comments and concerns. It will be your job to help educate the public about our beautiful canopy\, the risks facing it and how everybody can help protect it. Typical events include manning a table at festivals or speaking in front of a school class. As public-facing opportunities arise\, we will equip you with an event box complete with key facts\, fun stuff to give away\, important literature and whatever else is required! \nCan I be both? \nYes! \nHow do I become a TreeMaster and/or TreeAmbassador? \nAnybody interested must attend this free 3-hour workshop\, featuring indoor and outdoor instruction\, presentations on the history of TreesCharlotte and hands-on demonstrations.  Training is suited for all levels of arboriculture knowledge.  Upon completion of the certification course\, graduates will be provided opportunities to put their knowledge into action by serving as volunteer leaders.  The tree planting season in Charlotte runs from October to early April. Outreach events are year-round. \nWhat is the time commitment? \nTreeMasters are asked to commit to volunteer at a minimum of 3 regularly scheduled tree planting events annually (each about 5 hours).TreeAmbassadors are asked to volunteer at a minimum of 3 outreach events annually (each about 3 hours). \nHow do I sign up? \nYou must be at least 18 years of age and register by completing the application below.
URL:https://treescharlotte.org/event/treemaster-treeambassador-certification-course-sept-2019/
LOCATION:City of Charlotte Landscape Management\, 701 Tuckaseegee Road\, Charlotte\, NC\, 28208\, United States
CATEGORIES:Workshop
END:VEVENT
BEGIN:VEVENT
DTSTART;TZID=America/New_York:20190928T090000
DTEND;TZID=America/New_York:20190928T110000
DTSTAMP:20260423T230648
CREATED:20190726T134036Z
LAST-MODIFIED:20211031T223343Z
UID:15166-1569661200-1569668400@treescharlotte.org
SUMMARY:TreeMaster Refresher TreeDay
DESCRIPTION:Thanks to our official TreeMaster sponsor\, \nthe Charlotte office of \n \nTreeMasters: Are. You. Reeeaaaddddyyy??!!! \nThe TreesCharlotte team is pumped to get our 8th planting season underway\, and we have a packed calendar. We have some new moves\, and one of them is just for you: A planting solely for TreeMasters to kick off the season. The team here thought it would be both fun and instructive to gather before the season to share some updates from the summer\, talk about the upcoming season (and how your leadership will be needed more than ever) and get some refresher planting and mulching training from Frank and Erin. \nAfter we all reconnect (with doughnuts and coffee\, of course)\, we’ll plant about 50 trees together – just the TC team\, experts from Bartlett and you\, the TreeMasters! \nThe fun begins at 9 am\, at Berryhill Elementary in west Charlotte\, a sweet little school tucked in the woods beside Lake Wylie. To make this event even more notable\, this planting will mark our 50th school. Wow!!! \nWe hope you are as excited and ready to don those orange hats as we are. If you can make it\, sign up below. If not\, we’ll catch you at an upcoming event!
URL:https://treescharlotte.org/event/treemaster-refresher-treeday/
LOCATION:Berryhill School\, 10501 Windy Grove Road\, Charlotte\, United States
CATEGORIES:TreeMaster Event
END:VEVENT
END:VCALENDAR