﻿BEGIN:VCALENDAR
VERSION:2.0
PRODID:-//TreesCharlotte - ECPv5.16.4//NONSGML v1.0//EN
CALSCALE:GREGORIAN
METHOD:PUBLISH
X-WR-CALNAME:TreesCharlotte
X-ORIGINAL-URL:https://treescharlotte.org
X-WR-CALDESC:Events for TreesCharlotte
REFRESH-INTERVAL;VALUE=DURATION:PT1H
X-Robots-Tag:noindex
X-PUBLISHED-TTL:PT1H
BEGIN:VTIMEZONE
TZID:America/New_York
BEGIN:DAYLIGHT
TZOFFSETFROM:-0500
TZOFFSETTO:-0400
TZNAME:EDT
DTSTART:20190310T070000
END:DAYLIGHT
BEGIN:STANDARD
TZOFFSETFROM:-0400
TZOFFSETTO:-0500
TZNAME:EST
DTSTART:20191103T060000
END:STANDARD
END:VTIMEZONE
BEGIN:VEVENT
DTSTART;TZID=America/New_York:20190403T100000
DTEND;TZID=America/New_York:20190403T113000
DTSTAMP:20260424T120150
CREATED:20181226T223236Z
LAST-MODIFIED:20190318T172801Z
UID:13718-1554285600-1554291000@treescharlotte.org
SUMMARY:Stewardship at Starmount Academy
DESCRIPTION:TreesCharlotte is celebrating “Earth Month” by returning to the campus of Starmount Academy to do routine maintenance on the trees planted in Fall\, 2016.  TreesCharlotte periodically returns to school campuses to ensure that the trees we previously planted continue to thrive.  Stewardship events are vital to our mission of expanding Charlotte’s tree canopy. \nVolunteers will help with mulching and staking existing trees. \nTo ensure a safe and enjoyable event\, we are limiting the number of volunteers to 15 for this Stewardship event.  0 Spots Remaining. \nEvents are held rain or shine. \nA few TreeMasters are still needed to help at this event.
URL:https://treescharlotte.org/event/stewardship-at-starmount-academy/
LOCATION:Starmount Academy\, 1600 Brookdale Avenue\, Charlotte\, NC\, 28210\, United States
CATEGORIES:Volunteer Project
END:VEVENT
BEGIN:VEVENT
DTSTART;TZID=America/New_York:20190403T100000
DTEND;TZID=America/New_York:20190403T140000
DTSTAMP:20260424T120150
CREATED:20190226T202517Z
LAST-MODIFIED:20190226T202517Z
UID:14398-1554285600-1554300000@treescharlotte.org
SUMMARY:Meet TreesCharlotte: UNCC Earth Day
DESCRIPTION:Whether it’s for your love of the environment\, your interest in sustainability non-profits or your appetite for the food trucks\, UNCC wants you to come on out for the annual UNC Charlotte Earth Day Festival on April 3rd! This event will be held in the newly renovated Belk Plaza in the center of campus. Attendees will be able to find out what local organizations are doing in the community\, how they can get involved\, tips on how to be a bit more environmentally-friendly\, and of course\, free giveaways from the vendors. \nTreesCharlotte will be there will seedlings and tree trivia!
URL:https://treescharlotte.org/event/meet-treescharlotte-uncc-earth-day/
LOCATION:UNCC Belk Plaza\, Charlotte\, NC\, United States
END:VEVENT
BEGIN:VEVENT
DTSTART;TZID=America/New_York:20190409T100000
DTEND;TZID=America/New_York:20190409T113000
DTSTAMP:20260424T120150
CREATED:20181227T005513Z
LAST-MODIFIED:20190329T153433Z
UID:13726-1554804000-1554809400@treescharlotte.org
SUMMARY:Stewardship at Highland Renaissance Academy
DESCRIPTION:TreesCharlotte is celebrating “Earth Month” by returning to the campus of Highland Renaissance Academy to do routine maintenance on the trees planted in Spring\, 2017.  TreesCharlotte periodically returns to school campuses to ensure that the trees we previously planted continue to thrive.  Stewardship events are vital to our mission of expanding Charlotte’s tree canopy. \nVolunteers will help with mulching and staking existing trees. \nTo ensure a safe and enjoyable event\, we are limiting the number of volunteers to 15 for this Stewardship event.  Only 0 spots remaining.  \nDeadline to register is Sunday\, April 7. \nEvents are held rain or shine.
URL:https://treescharlotte.org/event/stewardship-at-highland-renaissance-academy/
LOCATION:Highland Renaissance Academy\, 125 West Craighead Road\, Charlotte\, NC\, 28206\, United States
END:VEVENT
BEGIN:VEVENT
DTSTART;TZID=America/New_York:20190413T100000
DTEND;TZID=America/New_York:20190413T140000
DTSTAMP:20260424T120150
CREATED:20190225T150456Z
LAST-MODIFIED:20190225T150456Z
UID:14362-1555149600-1555164000@treescharlotte.org
SUMMARY:Meet TreesCharlotte: Raptor Center STEM Day
DESCRIPTION:Take off into science at STEM on the Wing Day at Carolina Raptor Center. The Center has partnered with science organizations from all over Charlotte – including TreesCharlotte – to bring exciting and interactive activities for all ages to the Raptor Trail! Throughout the day\, the Center’s expert flight team will ignite your imagination with a series of appearances. Exercise your brain and explore your inner geek at this celebration of science\, technology\, engineering\, and mathematics on April 13th from 10 am-2pm. And to top it all off\, admission is FREE all day thanks to our presenting sponsor\, MSC Industrial Supply. \nSchedule of Events\n10:30 am Keeper Talk\n11:30 am Bird Demonstration\n12:30 pm Vulture Feeding\n1:30 pm Bird Demonstration \nTreesCharlotte will be one of the non-profits on site with tree cookie necklaces\, seedlings and fun trivia.
URL:https://treescharlotte.org/event/meet-treescharlotte-raptor-center-stem-day/
LOCATION:Raptor Center\, 6000 Sample Road\, Huntersville\, NC\, 28078\, United States
END:VEVENT
BEGIN:VEVENT
DTSTART;TZID=America/New_York:20190416T110000
DTEND;TZID=America/New_York:20190416T130000
DTSTAMP:20260424T120150
CREATED:20190326T013059Z
LAST-MODIFIED:20190326T014203Z
UID:14564-1555412400-1555419600@treescharlotte.org
SUMMARY:Meet TreesCharlotte: Gateway Village Earth Day Celebration
DESCRIPTION:Celebrate Earth Month at Gateway Village and TreesCharlotte. We’ll join other non-profits in the Promenade and give away seedlings! \nOops! We could not locate your form.
URL:https://treescharlotte.org/event/meet-treescharlotte-gateway-village-earth-day-celebration/
LOCATION:Gateway Village Promenade\, 900 Trade Street\, Charlotte\, NC\, 28202\, United States
END:VEVENT
BEGIN:VEVENT
DTSTART;TZID=America/New_York:20190418T113000
DTEND;TZID=America/New_York:20190418T133000
DTSTAMP:20260424T120150
CREATED:20190225T165506Z
LAST-MODIFIED:20190225T173156Z
UID:14375-1555587000-1555594200@treescharlotte.org
SUMMARY:Meet TreesCharlotte: Ballantyne Earth Day
DESCRIPTION:On Thursday\, April 18\, 11:30 a.m. – 1:30 p.m.\, join Ballantyne for its annual community event featuring music\, food truck fare\, great giveaways and local vendors showcasing their sustainable efforts or green products at the Brixham Tent. This event will also feature free\, secure shredding and recycling opportunities. \nTreesCharlotte will be there with seedlings to give away and tree trivia \nOops! We could not locate your form.
URL:https://treescharlotte.org/event/meet-treescharlotte-ballantyne-earth-day/
LOCATION:Brixham Tent\, 15801 Brixham Hill Avenue\, Charlotte\, NC\, 28277\, United States
END:VEVENT
BEGIN:VEVENT
DTSTART;TZID=America/New_York:20190422T110000
DTEND;TZID=America/New_York:20190422T130000
DTSTAMP:20260424T120150
CREATED:20190408T171709Z
LAST-MODIFIED:20190415T122724Z
UID:14644-1555930800-1555938000@treescharlotte.org
SUMMARY:Ingersoll Rand Employee Earth Day Event
DESCRIPTION:On this Earth Day Ingersoll Rand is promoting to its employees that small changes can make a big impact. With sustainability at the core of the company’s focus\, it wants to encourage employees to get involved with local non-profits\, NGOs and government entities that support and conserve our natural resources as well as shop with local businesses to reduce their carbon footprint. \nAs TreeAmbassador\, you’ll give away seedlings and do tree trivia with employees. \nOops! We could not locate your form.
URL:https://treescharlotte.org/event/ingersoll-rand-employee-earth-day-event/
END:VEVENT
BEGIN:VEVENT
DTSTART;TZID=America/New_York:20190423T100000
DTEND;TZID=America/New_York:20190423T113000
DTSTAMP:20260424T120150
CREATED:20181227T012208Z
LAST-MODIFIED:20190409T181526Z
UID:13738-1556013600-1556019000@treescharlotte.org
SUMMARY:Stewardship at Hidden Valley Elementary
DESCRIPTION:TreesCharlotte continues to celebrate “Earth Month” by returning to the campus of Hidden Valley Elementary to do routine maintenance on the trees planted in Fall\, 2016.  TreesCharlotte periodically returns to school campuses to ensure that the trees we previously planted continue to thrive.  Stewardship events are vital to our mission of expanding Charlotte’s tree canopy. \nVolunteers will help with mulching and staking existing trees. \nTo ensure a safe and enjoyable event\, we are limiting the number of volunteers to 15 for this Stewardship event.  Only 5 spots remaining.  Deadline to register is Sunday\, April 21. \nEvents are held rain or shine. \nA few TreeMasters are needed to help manage this event.
URL:https://treescharlotte.org/event/stewardship-at-hidden-valley-elementary/
LOCATION:Hidden Valley Elementary\, 5040 Cinderella Road\, Charlotte\, NC\, 28213\, United States
CATEGORIES:Volunteer Project
END:VEVENT
BEGIN:VEVENT
DTSTART;TZID=America/New_York:20190426T113000
DTEND;TZID=America/New_York:20190426T133000
DTSTAMP:20260424T120151
CREATED:20190225T042649Z
LAST-MODIFIED:20190226T201025Z
UID:14358-1556278200-1556285400@treescharlotte.org
SUMMARY:Meet TreesCharlotte: Charlotte Earth Day Celebration
DESCRIPTION:Celebrate Earth Day with the city of Charlotte. There will be vendors\, music and food. TreesCharlotte will be there with tree cookie necklaces for kids and seedlings for everybody! What a great lunch break!
URL:https://treescharlotte.org/event/charlotte-earth-day-celebration/
LOCATION:Government Center Porch\, 600 East 4th Street Plaza\, Charlotte\, NC\, United States
END:VEVENT
BEGIN:VEVENT
DTSTART;TZID=America/New_York:20190427T090000
DTEND;TZID=America/New_York:20190427T180000
DTSTAMP:20260424T120151
CREATED:20190409T212214Z
LAST-MODIFIED:20190409T212508Z
UID:14663-1556355600-1556388000@treescharlotte.org
SUMMARY:Meet TreesCharlotte: Tree Climbing Competition
DESCRIPTION:The Charlotte Arborists Association hosts a tree climbing competition every year. Some are about speed\, others are about skill. It’s a total blast! This year\, the competition is moving to Reedy Creek Park\, and TreesCharlotte plans to be there with tree trivia\, tree cookies for kids and seedlings to give away! \nOops! We could not locate your form.
URL:https://treescharlotte.org/event/meet-treescharlotte-tree-climbing-competition/
LOCATION:Reedy Creek Park\, 2900 Rocky River Road\, Charlotte\, NC\, 28216\, United States
CATEGORIES:TreeAmbassador Event
END:VEVENT
BEGIN:VEVENT
DTSTART;TZID=America/New_York:20190427T100000
DTEND;TZID=America/New_York:20190427T130000
DTSTAMP:20260424T120151
CREATED:20190225T155322Z
LAST-MODIFIED:20190225T155322Z
UID:14369-1556359200-1556370000@treescharlotte.org
SUMMARY:Meet TreeCharlotte: Earth Day with Kids In Nature Day
DESCRIPTION:Come out to the Four Mile Creek Greenway behind the Matthews Community Center to celebrate Earth Day with Kids In Nature Day! TreesCharlotte will be there with tree cookie necklaces\, seedlings and trivia.\n\nOther activities/vendors to include:\nEco-Friendly Exhibits & Vendors\nRain barrels from Coca Cola (Limited supply)\nHAWK-cycling: egg cartons\, corks\, pull tabs\, etc.\nE-cycling by Goodwill Industries\nDocument Shredding (10am-12pm)\nFree NWF tree seedlings\nHikes and Scavenger Hunts\nKids Crafts & Fairy Houses\nMusic\, and FREE Family Fun\n\nOops! We could not locate your form.
URL:https://treescharlotte.org/event/meet-treecharlotte-earth-day-with-kids-in-nature-day/
LOCATION:Four Mile Creek Greenway\, behind Matthews Community Center\, 100 E McDowell St.\, Matthews\, NC\, 28105\, United States
END:VEVENT
BEGIN:VEVENT
DTSTART;TZID=America/New_York:20190427T120000
DTEND;TZID=America/New_York:20190427T180000
DTSTAMP:20260424T120151
CREATED:20190409T214305Z
LAST-MODIFIED:20190409T214305Z
UID:14668-1556366400-1556388000@treescharlotte.org
SUMMARY:Meet TreesCharlotte: International Sandwich Festival
DESCRIPTION:Aldersgate will host the 4th Annual Sandwich Festival from noon – 6 p.m.\, Saturday\, April 27\, 2019. The free\, public festival celebrates the vibrant cultural diversity of east Charlotte\, bringing international flavor and intergenerational activities to the front lawn of Aldersgate at 3800 Shamrock Drive. \nEnjoy food from around the world and a rich blend of musical entertainment acts and kids’ activities at this family-friendly festival. Popular food trucks and restaurants will be on hand serving up sandwiches and other international fare including German\, Indian\, Mexican\, Korean\, Venezuelan\, Vietnamese and American. Musical entertainment ranges from vocal and instrumental acts to dance lessons and performances including German Polka\, Reggae\, Salsa\, Gospel and more. \nLawn chairs and blankets are encouraged. Parking is free and CATS Bus #23 takes you directly to the celebration. \nTreesCharlotte plans to be there with tree cookies for kids\, seedlings to give away and tree trivia! \nOops! We could not locate your form.
URL:https://treescharlotte.org/event/meet-treescharlotte-international-sandwich-festival/
LOCATION:Aldersgate Life Plan Communities\, 3800 Shamrock Drive\, Charlotte\, NC\, 28215\, United States
CATEGORIES:TreeAmbassador Event
END:VEVENT
BEGIN:VEVENT
DTSTART;TZID=America/New_York:20190428T130000
DTEND;TZID=America/New_York:20190428T170000
DTSTAMP:20260424T120151
CREATED:20190225T024904Z
LAST-MODIFIED:20190225T025246Z
UID:14328-1556456400-1556470800@treescharlotte.org
SUMMARY:Meet TreesCharlotte: Open Streets 704
DESCRIPTION:Open Streets 704 opens a length of city streets for people to walk\, bike and experience for an afternoon. Taking cues from similar events around the country and the world\, Open Streets 704 aims to build a better\, healthier\, connected community. \nThe next Open Streets 704 is Sunday\, April 28\, from 1-5 p.m.  The route covers roughly four (4) miles between Plaza Midwood and NoDa — and all the cool places in between! Check it out here. Along the way will be family-friendly activities\, from jugglers to pet crafts to the TreesCharlotte table\, where we’ll have tree cookie necklaces for kids to decorate\, seedlings for everybody and a fun trivia experience. \nPlease come visit us!
URL:https://treescharlotte.org/event/meet-treescharlotte-open-streets-704/
CATEGORIES:Community Event
END:VEVENT
BEGIN:VEVENT
DTSTART;TZID=America/New_York:20190430T100000
DTEND;TZID=America/New_York:20190430T113000
DTSTAMP:20260424T120151
CREATED:20181227T011404Z
LAST-MODIFIED:20190415T121301Z
UID:13731-1556618400-1556623800@treescharlotte.org
SUMMARY:Stewardship at Briarwood Academy
DESCRIPTION:TreesCharlotte is celebrating “Earth Month” by returning to the campus of Briarwood Academy to do routine maintenance on the trees planted in Spring\, 2017.  TreesCharlotte periodically returns to school campuses to ensure that the trees we previously planted continue to thrive.  Stewardship events are vital to our mission of expanding Charlotte’s tree canopy. \nVolunteers will help with mulching and staking existing trees. \nTo ensure a safe and enjoyable event\, we are limiting the number of volunteers to 15 for this Stewardship event.  Only 8 spots remaining.  \nDeadline to register is Sunday\, April 28. \nEvents are held rain or shine.
URL:https://treescharlotte.org/event/stewardship-at-briarwood-academy/
LOCATION:Briarwood Elementary\, 1001 Wilann Drive\, Charlotte\, NC\, 28215\, United States
CATEGORIES:Volunteer Project
END:VEVENT
END:VCALENDAR