﻿BEGIN:VCALENDAR
VERSION:2.0
PRODID:-//TreesCharlotte - ECPv5.16.4//NONSGML v1.0//EN
CALSCALE:GREGORIAN
METHOD:PUBLISH
X-WR-CALNAME:TreesCharlotte
X-ORIGINAL-URL:https://treescharlotte.org
X-WR-CALDESC:Events for TreesCharlotte
REFRESH-INTERVAL;VALUE=DURATION:PT1H
X-Robots-Tag:noindex
X-PUBLISHED-TTL:PT1H
BEGIN:VTIMEZONE
TZID:America/New_York
BEGIN:DAYLIGHT
TZOFFSETFROM:-0500
TZOFFSETTO:-0400
TZNAME:EDT
DTSTART:20200308T070000
END:DAYLIGHT
BEGIN:STANDARD
TZOFFSETFROM:-0400
TZOFFSETTO:-0500
TZNAME:EST
DTSTART:20201101T060000
END:STANDARD
END:VTIMEZONE
BEGIN:VEVENT
DTSTART;VALUE=DATE:20201114
DTEND;VALUE=DATE:20201115
DTSTAMP:20260423T195811
CREATED:20200828T185753Z
LAST-MODIFIED:20210209T211521Z
UID:18190-1605312000-1605398399@treescharlotte.org
SUMMARY:South Charlotte ZipCode TreeStore - 28226\, 28270\, 28277
DESCRIPTION:Excitement for this Zip Code TreeStore has been Tree-mendous and we are now “sold out” of trees.\nTreesCharlotte is excited to bring our Zip Code TreeStore to South Charlotte.  We invite residents living in zip codes 28226\, 28270 or 28277 to come on out and get some trees for your yard. \nTo ensure the event follows social distancing guidelines\, details are different from our typical TreeStores\, so read carefully: \nHere’s what you need to know:  \n\nYou must pre-register. Registration opens 10 am\, Fri\, Nov 6  and closes when we “sell out” of trees.  \nEach address within zip code 28226. 28270\, or 28277 can get up to 2 trees. While the registration form does not limit the total number of trees\, households requesting more than 2 trees will be notified and removed.\nA valid email address is required to register.\nThe event will be drive-thru only to limit personal contact. You will be expected to load your own trees and mulch. \nTo respect guidelines around large gatherings and to limit the number of registrants on-site at any one time\, we are implementing staggered pick up times.  On the registration form\, you will choose a time-frame to pick up your trees. \nAbout the trees: The trees are in 3\, 5 or 7-gallon containers\, measure 6-10 feet tall and weigh about 10-15 pounds. The mulch weighs 25 pounds/bag. Links to the species we are offering are provided below.  Please do your homework first to ensure you’re putting the right tree in the right place. Once registered\, selections are final and cannot be changed.\nTreesCharlotte will send a follow-up email with planting instructions – including a planting video – watering instructions and specific information about the species you select.\n \n\nTreesCharlotte is a non-profit organization that relies on donations to be able to host events like this.  Donation are greatly appreciated and help us give more trees to Charlotte residents. \nYou’ll be able to choose from the following trees when you register. Be sure to research which tree will work best for your yard before registering.  \nQuantities are limited. Register early to ensure the best selection. Selections are final and once registered\, cannot be changed.   \nSOLD OUT \n\n \nArmstrong Red Maple\n\n \nRed Maple\n\n\n\n \nBrandywine Red Maple\n\n \nRed Maple\n\n\n\n \nHeritage River Birchd\n\n \nRiver Birch\n\n\n\n \nSparkling Wine Redbud\n\n \nRedbud\n\n\n\n \nJapanese Cedar\n\n \nCedar\, Japanese\n\n\n\n \nRobin Holly\n\n \nHolly\n\n\n\n \nRed Oak\n\n \nOak\, Red\n\n\n\n \nWeeping Willow\n\n \nWeeping Willow\n\n\n\n \nElm\n\n \nElm\n\n\nSOLD OUT
URL:https://treescharlotte.org/event/south-charlotte-zipcode-treestore-28226-28270-28277/
LOCATION:Hemby Program Center\, 9760 Happy Valley Drive\, Charlotte\, 28270
CATEGORIES:TreesCharlotte Event,Volunteer Project
END:VEVENT
END:VCALENDAR