﻿BEGIN:VCALENDAR
VERSION:2.0
PRODID:-//TreesCharlotte - ECPv5.16.4//NONSGML v1.0//EN
CALSCALE:GREGORIAN
METHOD:PUBLISH
X-ORIGINAL-URL:https://treescharlotte.org
X-WR-CALDESC:Events for TreesCharlotte
REFRESH-INTERVAL;VALUE=DURATION:PT1H
X-Robots-Tag:noindex
X-PUBLISHED-TTL:PT1H
BEGIN:VTIMEZONE
TZID:America/New_York
BEGIN:DAYLIGHT
TZOFFSETFROM:-0500
TZOFFSETTO:-0400
TZNAME:EDT
DTSTART:20200308T070000
END:DAYLIGHT
BEGIN:STANDARD
TZOFFSETFROM:-0400
TZOFFSETTO:-0500
TZNAME:EST
DTSTART:20201101T060000
END:STANDARD
END:VTIMEZONE
BEGIN:VEVENT
DTSTART;VALUE=DATE:20201017
DTEND;VALUE=DATE:20201018
DTSTAMP:20260423T184127
CREATED:20200825T144030Z
LAST-MODIFIED:20201001T125130Z
UID:18167-1602892800-1602979199@treescharlotte.org
SUMMARY:Back Creek Church TreeDay
DESCRIPTION:While TreesCharlotte strives to celebrate\, expand\, and protect the tree canopy in Charlotte\, we also want to protect the health of our supporters\, volunteers\, and partners from risks associated with COVID-19.  We appreciate your continued interest in volunteering with us even in these difficult times. Please read through our new event protocols here before registering to volunteer. \nTreesCharlotte is excited to partner with Back Creek Church to not only host a Zip Code TreeStore to give out trees to residents living in 28213\, 28262 or 28269 but also to plant approximately 140 trees around their campus. \nTo ensure a safe and enjoyable event\, we are limiting the number of volunteers to 70 for this TreeDay. Register early as our events “sell out” quickly.  35 spots remain. \nTree planting events are great for families and all ages are welcome. To ensure we operate within State and CDC guidelines\, we are limiting each 2-hour shift to 20 volunteers and are requiring a registration form for each volunteer\, regardless of age. We cannot accept walk-up volunteers at the event. Children 16 and younger must be accompanied by an adult. \nVolunteer groups of 10 or more\, please contact events director\, Heike Biller to determine if there is enough capacity. \nEvents are held rain or shine. Details of the event will be emailed to registered volunteers the week of the event. \nDeadline to register to volunteer is Sunday\, October 11.
URL:https://treescharlotte.org/event/back-creek-church-treeday/
LOCATION:Back Creek Church\, NC\, 28213\, United States
CATEGORIES:Volunteer Project
END:VEVENT
BEGIN:VEVENT
DTSTART;VALUE=DATE:20201017
DTEND;VALUE=DATE:20201018
DTSTAMP:20260423T184127
CREATED:20200825T144109Z
LAST-MODIFIED:20201026T170219Z
UID:19452-1602892800-1602979199@treescharlotte.org
SUMMARY:University City Zip Code TreeStore - 28213\, 28262\, 28269
DESCRIPTION:TreesCharlotte is excited to partner with Back Creek Church to not only plant trees around their campus but also to host a Zip Code TreeStore to give out trees to residents living in 28213\, 28262 or 28269.  If you live in one of these zip codes\, 28213\, 28262\, or 28269\, we invite you to come out and get some trees for your yard. \nTo ensure the event follows social distancing guidelines\, details are different from our typical TreeStores\, so read carefully: \nHere’s what you need to know:  \n\nYou must pre-register. Registration opens 10am Fri\, Oct 9 (link below available species) and closes at 11:59pm Tues\, Oct 13.  \nEach address within zip code 28213\, 28262 or 28269 can get up to 2 trees TOTAL. While the registration form does not limit the total number of trees\, households requesting more than 2 trees will be notified and removed.\nA valid email address is required to register.\nThe event will be drive-thru only to limit personal contact. You will be expected to load your own trees and mulch. Neighbors are encouraged to work together to pick up multiple orders with one vehicle.\nTo respect guidelines around large gatherings and to limit the number of registrants on-site at any one time\, we are implementing staggered pick up times.  On the registration form\, you will choose a time-frame to pick up your trees (FULL10-10:45am or 10:45-11:30am). \nAbout the trees: The trees are in 7-gallon containers\, measure 6-15 feet tall and weigh about 20-25 pounds. The mulch weighs 25 pounds/bag. Links to the species we are offering are provided below.  Please do your homework first to ensure you’re putting the right tree in the right place. Once registered\, selections are final and cannot be changed.\nTreesCharlotte will send a follow-up email with planting instructions – including a planting video – watering instructions and specific information about the species you select.\n\nTreesCharlotte is a non-profit organization that relies on donations to be able to host events like this.  Donation are greatly appreciated and help us give more trees to Charlotte residents. \nYou’ll be able to choose from the following trees when you register (registration link below opens at 10am Oct 9). Be sure to research which tree will work best for your yard before registering. Community Tree Educator Kate has created an Ask the Arborist on Zoom to guide you through the species.  \nQuantities are limited. Register early to ensure the best selection. Selections are final and once registered\, cannot be changed.   \n\n \nSold Out\n\n \nMaple\, Trident\n\n\n\n \nSold Out\n\n \nServiceberry\n\n\n\n \nPaw Paw\n\n \nPaw Paw\n\n\n\n \nSold Out\n\n \nRedbud\n\n\n\n \nSold Out\n\n \nFringetree\n\n\n\n \nSold Out\n\n \nHolly\n\n\n\n \nSold Out\n\n \nRed Cedar\n\n\n\n \nSold Out\n\n \nCherry\n\n\n\n \nSold Out\n\n \nChokecherry \n\n\n\n \nSold Out\n\n \nArborvitae\n\n\nRegistration will open Oct 9 \nWe’re looking for 8 TreeMasters to help with traffic\, check-in and moving trees.  Interested in becoming a TreeMaster? Find details here.  
URL:https://treescharlotte.org/event/university-city-zip-code-treestore-28213-28262-28269/
LOCATION:Back Creek Church\, NC\, 28213\, United States
CATEGORIES:TreesCharlotte Event,Volunteer Project
END:VEVENT
END:VCALENDAR