﻿BEGIN:VCALENDAR
VERSION:2.0
PRODID:-//TreesCharlotte - ECPv5.16.4//NONSGML v1.0//EN
CALSCALE:GREGORIAN
METHOD:PUBLISH
X-WR-CALNAME:TreesCharlotte
X-ORIGINAL-URL:https://treescharlotte.org
X-WR-CALDESC:Events for TreesCharlotte
REFRESH-INTERVAL;VALUE=DURATION:PT1H
X-Robots-Tag:noindex
X-PUBLISHED-TTL:PT1H
BEGIN:VTIMEZONE
TZID:America/New_York
BEGIN:DAYLIGHT
TZOFFSETFROM:-0500
TZOFFSETTO:-0400
TZNAME:EDT
DTSTART:20200308T070000
END:DAYLIGHT
BEGIN:STANDARD
TZOFFSETFROM:-0400
TZOFFSETTO:-0500
TZNAME:EST
DTSTART:20201101T060000
END:STANDARD
END:VTIMEZONE
BEGIN:VEVENT
DTSTART;TZID=America/New_York:20200321T090000
DTEND;TZID=America/New_York:20200321T113000
DTSTAMP:20260422T192033
CREATED:20191118T160355Z
LAST-MODIFIED:20200316T130440Z
UID:16258-1584781200-1584790200@treescharlotte.org
SUMMARY:POSTPONED: Parkside Elementary TreeDay
DESCRIPTION:Thanks to the generous support of Bank of America\, TreesCharlotte will be planting approximately 200 trees on the campus of Parkside Elementary School. \nTo ensure a safe and enjoyable event\, we are limiting the number of volunteers to 130 for this TreeDay. Register early as our events “sell out” quickly. \nVolunteer groups of 10 or more\, please contact events director\, Heike Biller to determine if there is enough capacity. \nTree planting events are great for families and all ages are welcome. To ensure accurate active volunteer counts\, please list all participants on the registration form\, along with children’s ages. Children 16 and younger must be accompanied by an adult. \nChildren activities will be provided by our community partner\, NC Wildlife Federation. \nTreesCharlotte is exited to partner with our official coffee sponsor\, CupLux Coffee to provide our volunteers with delicious\, hand crafted coffee at our events. \nEvents are held rain or shine.  A modest rainfall actually provides ideal planting conditions. \nDeadline to register to volunteer is Sunday\, March 15. \nOnce registered\, more detailed information will be emailed to you the week of the event. \nTreeMasters\, we have enough help for this one\, consider signing up for the Mallard Creek High event on the same day.  Simply sign in to your account and register here. \nOops! We could not locate your form.
URL:https://treescharlotte.org/event/parkside-elementary-treeday/
LOCATION:Parkside Elementary\, 2945 Johnston Oehler Road\, Charlotte\, NC\, 28269\, United States
CATEGORIES:Volunteer Project
END:VEVENT
BEGIN:VEVENT
DTSTART;TZID=America/New_York:20200321T093000
DTEND;TZID=America/New_York:20200321T113000
DTSTAMP:20260422T192033
CREATED:20191127T142117Z
LAST-MODIFIED:20200316T130330Z
UID:16348-1584783000-1584790200@treescharlotte.org
SUMMARY:POSTPONED: Mallard Creek High School TreeDay
DESCRIPTION:Thanks to our partnership with LendingTree\, Charlotte 2020 Host Committee and 2020 Convention Planners\, TreesCharlotte will be planting approximately 200 trees on the campus of Mallard Creek High School. \nTo ensure a safe and enjoyable event\, we are limiting the number of volunteers to 200 for this TreeDay. Register early as our events “sell out” quickly. 10 spots remain. \nVolunteer groups of 10 or more\, please contact events director\, Zack Agerton to determine if there is enough capacity. \nTree planting events are great for families and all ages are welcome. To ensure accurate active volunteer counts\, please list all participants on the registration form\, along with children’s ages. Children 16 and younger must be accompanied by an adult. \nTreesCharlotte is excited to partner with CupLux Coffee to provide our volunteers with delicious\, handcrafted coffee at our events. \nEvents are held rain or shine.  A modest rainfall actually provides ideal planting conditions. \nDeadline to register to volunteer is Sunday\, March 15. \nOnce registered\, more detailed information will be emailed to you the week of the event. \nWe are still looking for a few more TreeMasters to help with this event! \nOops! We could not locate your form.
URL:https://treescharlotte.org/event/mallard-creek-high-school-treeday/
LOCATION:Mallard Creek High School\, 3825 Johnston Oelher road\, Charlotte\, NC\, 28269
CATEGORIES:Volunteer Project
END:VEVENT
END:VCALENDAR