﻿BEGIN:VCALENDAR
VERSION:2.0
PRODID:-//TreesCharlotte - ECPv5.16.4//NONSGML v1.0//EN
CALSCALE:GREGORIAN
METHOD:PUBLISH
X-WR-CALNAME:TreesCharlotte
X-ORIGINAL-URL:https://treescharlotte.org
X-WR-CALDESC:Events for TreesCharlotte
REFRESH-INTERVAL;VALUE=DURATION:PT1H
X-Robots-Tag:noindex
X-PUBLISHED-TTL:PT1H
BEGIN:VTIMEZONE
TZID:America/New_York
BEGIN:DAYLIGHT
TZOFFSETFROM:-0500
TZOFFSETTO:-0400
TZNAME:EDT
DTSTART:20200308T070000
END:DAYLIGHT
BEGIN:STANDARD
TZOFFSETFROM:-0400
TZOFFSETTO:-0500
TZNAME:EST
DTSTART:20201101T060000
END:STANDARD
END:VTIMEZONE
BEGIN:VEVENT
DTSTART;VALUE=DATE:20200314
DTEND;VALUE=DATE:20200315
DTSTAMP:20260422T160109
CREATED:20191126T195648Z
LAST-MODIFIED:20200313T151808Z
UID:16342-1584144000-1584230399@treescharlotte.org
SUMMARY:Paw Creek Village NeighborWoods
DESCRIPTION:Having completed a NeighborWoods Application and thanks to the genorsity of Wells Fargo\, TreesCharlotte is pleased to partner with the Paw Creek Village neighborhood to plant trees in their common areas and to provide trees to their residents.  Residents are invited to enjoy coffee and donuts\, talk to our tree experts about the right trees for their yard\, take a 15-minute tree-planting clinic\, and bring home up to 3 trees! \nAll residents must pre-register for trees by March 9th. You can do so HERE \nThe tree give-a-away portion of the day will run from 9:00-10:00am. \nLocation: Due to lack of space in the neighborhood\, we will be hosting the give-a-away at Thrift Baptist Church (8415 Moores Chapel Rd\, Charlotte\, NC 28214) \nThe trees: Tentative species list is yet to be determined. Once confirmed\, a list of species will be emailed to registrants.  (Trees are a first-come\, first-served basis and cannot be reserved in advance) \nTree specs: 5-10 feet tall\, 1-inch caliper\, aged 2-4 years old\, potted in 7-gallon containers. Trees would retail for $75-$150. \nTree clinic: Every recipient will attend a tree-planting clinic the morning of the event (15 minutes) and sign a stewardship pledge. \nChildren Activities: Our friends from the North Carolina Wildlife Federation will be there to provided hands-on educational activities for children! We would like to invite all residents even if you are not planning on getting a tree. \nRegistration: Registration is required. If you register\, please make every effort to pick up trees on the morning of March 14 or arrange for somebody to pick them up for you. Registration does not guarantee species; all trees are first-come\, first-served the morning of the event. \nVOLUNTEERS NEEDED!\nVolunteers and TreeMasters are needed to help plant trees for residents unable to do so and to help with tree and mulch distribution. The tree planting portion of this event will take place from 10:00 to 11:00 am. \nTo ensure a safe and enjoyable event\, we are limiting the number of volunteers to 40 for this TreeDay. Register early as our events “sell out” quickly.  15 spots remain \nTree planting events are great for families and everyone is welcome. To ensure accurate active volunteer counts\, please list all participants on the registration form\, along with children’s ages. Children 16 and younger must be accompanied by an adult. \n  \nWe are still looking for TreeMasters for this event!
URL:https://treescharlotte.org/event/paw-creek-village/
LOCATION:Paw Creek Village\, 6024 Paw Village road\, Charlotte\, NC\, 28214
CATEGORIES:Volunteer Project
END:VEVENT
END:VCALENDAR