﻿BEGIN:VCALENDAR
VERSION:2.0
PRODID:-//TreesCharlotte - ECPv5.16.4//NONSGML v1.0//EN
CALSCALE:GREGORIAN
METHOD:PUBLISH
X-ORIGINAL-URL:https://treescharlotte.org
X-WR-CALDESC:Events for TreesCharlotte
REFRESH-INTERVAL;VALUE=DURATION:PT1H
X-Robots-Tag:noindex
X-PUBLISHED-TTL:PT1H
BEGIN:VTIMEZONE
TZID:America/New_York
BEGIN:DAYLIGHT
TZOFFSETFROM:-0500
TZOFFSETTO:-0400
TZNAME:EDT
DTSTART:20190310T070000
END:DAYLIGHT
BEGIN:STANDARD
TZOFFSETFROM:-0400
TZOFFSETTO:-0500
TZNAME:EST
DTSTART:20191103T060000
END:STANDARD
END:VTIMEZONE
BEGIN:VEVENT
DTSTART;TZID=America/New_York:20191114T090000
DTEND;TZID=America/New_York:20191114T120000
DTSTAMP:20260420T101408
CREATED:20190918T180219Z
LAST-MODIFIED:20191023T134843Z
UID:15349-1573722000-1573732800@treescharlotte.org
SUMMARY:Briar Creek at Park Road TreeDay
DESCRIPTION:TreesCharlotte is partnering with Piedmont Natural Gas to plant approximately 20 trees along Briar Creek. \nWe love our volunteers\, however\, general volunteers are not needed for this event.  Please check the events calendar for other opportunities highlighted in blue. \nWe are in need of 5 TreeMasters to help direct volunteers and distribute trees.  Learn more about the TreeMaster program here.
URL:https://treescharlotte.org/event/briar-creek-at-park-road-treeday/
LOCATION:NC
CATEGORIES:Volunteer Project
END:VEVENT
END:VCALENDAR