﻿BEGIN:VCALENDAR
VERSION:2.0
PRODID:-//TreesCharlotte - ECPv5.16.4//NONSGML v1.0//EN
CALSCALE:GREGORIAN
METHOD:PUBLISH
X-WR-CALNAME:TreesCharlotte
X-ORIGINAL-URL:https://treescharlotte.org
X-WR-CALDESC:Events for TreesCharlotte
REFRESH-INTERVAL;VALUE=DURATION:PT1H
X-Robots-Tag:noindex
X-PUBLISHED-TTL:PT1H
BEGIN:VTIMEZONE
TZID:America/New_York
BEGIN:DAYLIGHT
TZOFFSETFROM:-0500
TZOFFSETTO:-0400
TZNAME:EDT
DTSTART:20190310T070000
END:DAYLIGHT
BEGIN:STANDARD
TZOFFSETFROM:-0400
TZOFFSETTO:-0500
TZNAME:EST
DTSTART:20191103T060000
END:STANDARD
END:VTIMEZONE
BEGIN:VEVENT
DTSTART;TZID=America/New_York:20191019T090000
DTEND;TZID=America/New_York:20191019T113000
DTSTAMP:20260420T083650
CREATED:20190809T135928Z
LAST-MODIFIED:20191008T161442Z
UID:14959-1571475600-1571484600@treescharlotte.org
SUMMARY:Endhaven Elementary TreeDay
DESCRIPTION:TreesCharlotte will be planting approximately 80 trees on the campus of Endhaven Elementary School. \nTo ensure a safe and enjoyable event\, we are limiting the number of volunteers to 50 for this TreeDay. Register early as our events “sell out” quickly.  10 spots remain. \nVolunteer groups of 10 or more\, please contact events director\, Heike Biller to determine if there is enough capacity. \nTree planting events are great for families and all ages are welcome. To ensure accurate active volunteer counts\, please list all participants on the registration form\, along with children’s ages. Children 16 and younger must be accompanied by an adult. \nChildren activities will be provided between 9:00 and 10:00am by our community partner\, NC Wildlife Federation. \nTreesCharlotte is exited to partner with CupLux Coffee to provide our volunteers with delicious\, hand crafted coffee at our events. \nEvents are held rain or shine.  A modest rainfall actually provides ideal planting conditions. \nDeadline to register to volunteer is Sunday\, October 13. \nOnce registered\, more detailed information will be emailed to you the week of the event.
URL:https://treescharlotte.org/event/endhaven-elementary-treeday/
LOCATION:Endhaven Elementary School\, 6815 Endhaven Lane\, Charlotte\, NC\, 28277\, United States
CATEGORIES:Volunteer Project
END:VEVENT
END:VCALENDAR