﻿BEGIN:VCALENDAR
VERSION:2.0
PRODID:-//TreesCharlotte - ECPv5.16.4//NONSGML v1.0//EN
CALSCALE:GREGORIAN
METHOD:PUBLISH
X-WR-CALNAME:TreesCharlotte
X-ORIGINAL-URL:https://treescharlotte.org
X-WR-CALDESC:Events for TreesCharlotte
REFRESH-INTERVAL;VALUE=DURATION:PT1H
X-Robots-Tag:noindex
X-PUBLISHED-TTL:PT1H
BEGIN:VTIMEZONE
TZID:America/New_York
BEGIN:DAYLIGHT
TZOFFSETFROM:-0500
TZOFFSETTO:-0400
TZNAME:EDT
DTSTART:20190310T070000
END:DAYLIGHT
BEGIN:STANDARD
TZOFFSETFROM:-0400
TZOFFSETTO:-0500
TZNAME:EST
DTSTART:20191103T060000
END:STANDARD
END:VTIMEZONE
BEGIN:VEVENT
DTSTART;TZID=America/New_York:20190423T100000
DTEND;TZID=America/New_York:20190423T113000
DTSTAMP:20260420T020007
CREATED:20181227T012208Z
LAST-MODIFIED:20190409T181526Z
UID:13738-1556013600-1556019000@treescharlotte.org
SUMMARY:Stewardship at Hidden Valley Elementary
DESCRIPTION:TreesCharlotte continues to celebrate “Earth Month” by returning to the campus of Hidden Valley Elementary to do routine maintenance on the trees planted in Fall\, 2016.  TreesCharlotte periodically returns to school campuses to ensure that the trees we previously planted continue to thrive.  Stewardship events are vital to our mission of expanding Charlotte’s tree canopy. \nVolunteers will help with mulching and staking existing trees. \nTo ensure a safe and enjoyable event\, we are limiting the number of volunteers to 15 for this Stewardship event.  Only 5 spots remaining.  Deadline to register is Sunday\, April 21. \nEvents are held rain or shine. \nA few TreeMasters are needed to help manage this event.
URL:https://treescharlotte.org/event/stewardship-at-hidden-valley-elementary/
LOCATION:Hidden Valley Elementary\, 5040 Cinderella Road\, Charlotte\, NC\, 28213\, United States
CATEGORIES:Volunteer Project
END:VEVENT
END:VCALENDAR