﻿BEGIN:VCALENDAR
VERSION:2.0
PRODID:-//TreesCharlotte - ECPv5.16.4//NONSGML v1.0//EN
CALSCALE:GREGORIAN
METHOD:PUBLISH
X-ORIGINAL-URL:https://treescharlotte.org
X-WR-CALDESC:Events for TreesCharlotte
REFRESH-INTERVAL;VALUE=DURATION:PT1H
X-Robots-Tag:noindex
X-PUBLISHED-TTL:PT1H
BEGIN:VTIMEZONE
TZID:America/New_York
BEGIN:DAYLIGHT
TZOFFSETFROM:-0500
TZOFFSETTO:-0400
TZNAME:EDT
DTSTART:20190310T070000
END:DAYLIGHT
BEGIN:STANDARD
TZOFFSETFROM:-0400
TZOFFSETTO:-0500
TZNAME:EST
DTSTART:20191103T060000
END:STANDARD
END:VTIMEZONE
BEGIN:VEVENT
DTSTART;TZID=America/New_York:20190223T100000
DTEND;TZID=America/New_York:20190223T120000
DTSTAMP:20260419T225512
CREATED:20181119T151821Z
LAST-MODIFIED:20190129T131406Z
UID:12118-1550916000-1550923200@treescharlotte.org
SUMMARY:Ayrsley Neighborhood TreeDay Event
DESCRIPTION:Having completed a NeighborWoods Application and been accepted into the program\, TreesCharlotte is pleased to be partnering with the Ayrsley neighborhood to plant approximately 100 trees in common areas around their neighborhood. \nTo ensure a safe and enjoyable event\, we are limiting the number of volunteers to 50 and the number of TreeMasters to 8 for this TreeDay. Register early as our events “sell out” quickly. Only 10 spots remain. \nTree planting events are great for families and everyone is welcome. To ensure accurate active volunteer counts\, please list all participants on the registration form\, along with children’s ages. Children 16 and younger must be accompanied by an adult. \nEvents are held rain or shine.  A modest rainfall actually provides ideal planting conditions. \nDeadline to register is Sunday\, February 17. \nOnce registered\, more detailed information will be emailed to you the week of the event. \nOops! We could not locate your form.
URL:https://treescharlotte.org/event/ayrsley-neighborhood-treeday-event/
LOCATION:NC
CATEGORIES:Volunteer Project
END:VEVENT
END:VCALENDAR