﻿BEGIN:VCALENDAR
VERSION:2.0
PRODID:-//TreesCharlotte - ECPv5.16.4//NONSGML v1.0//EN
CALSCALE:GREGORIAN
METHOD:PUBLISH
X-ORIGINAL-URL:https://treescharlotte.org
X-WR-CALDESC:Events for TreesCharlotte
REFRESH-INTERVAL;VALUE=DURATION:PT1H
X-Robots-Tag:noindex
X-PUBLISHED-TTL:PT1H
BEGIN:VTIMEZONE
TZID:America/New_York
BEGIN:DAYLIGHT
TZOFFSETFROM:-0500
TZOFFSETTO:-0400
TZNAME:EDT
DTSTART:20180311T070000
END:DAYLIGHT
BEGIN:STANDARD
TZOFFSETFROM:-0400
TZOFFSETTO:-0500
TZNAME:EST
DTSTART:20181104T060000
END:STANDARD
END:VTIMEZONE
BEGIN:VEVENT
DTSTART;TZID=America/New_York:20181205T100000
DTEND;TZID=America/New_York:20181205T113000
DTSTAMP:20260419T194547
CREATED:20180809T131450Z
LAST-MODIFIED:20181019T180243Z
UID:12369-1544004000-1544009400@treescharlotte.org
SUMMARY:Stewardship at Winding Springs Elementary
DESCRIPTION:For this Workday Wednesday\, TreesCharlotte is returning to the campus of Winding Springs Elementary to do routine maintenance on the trees planted in Spring\, 2017.  TreesCharlotte periodically returns to school campuses to ensure that the trees we previously planted continue to thrive.  Stewardship events are vital to our mission of expanding Charlotte’s tree canopy. \nVolunteers will help with mulching and staking existing trees. \nTo ensure a safe and enjoyable event\, we are limiting the number of volunteers to 0 for this Stewardship event.  Deadline to register is Sunday\, December 2.  Sorry\, we have reached capacity of volunteers for this event but still need a few TreeMasters.  Contact Heike directly if you can help. \nEvents are held rain or shine.
URL:https://treescharlotte.org/event/stewardship-at-winding-springs-elementary/
LOCATION:Winding Springs Elementary\, 6601 Horace Mann Road\, Charlotte\, NC\, 28269\, United States
CATEGORIES:Volunteer Project
END:VEVENT
END:VCALENDAR