﻿BEGIN:VCALENDAR
VERSION:2.0
PRODID:-//TreesCharlotte - ECPv5.16.4//NONSGML v1.0//EN
CALSCALE:GREGORIAN
METHOD:PUBLISH
X-WR-CALNAME:TreesCharlotte
X-ORIGINAL-URL:https://treescharlotte.org
X-WR-CALDESC:Events for TreesCharlotte
REFRESH-INTERVAL;VALUE=DURATION:PT1H
X-Robots-Tag:noindex
X-PUBLISHED-TTL:PT1H
BEGIN:VTIMEZONE
TZID:America/New_York
BEGIN:DAYLIGHT
TZOFFSETFROM:-0500
TZOFFSETTO:-0400
TZNAME:EDT
DTSTART:20180311T070000
END:DAYLIGHT
BEGIN:STANDARD
TZOFFSETFROM:-0400
TZOFFSETTO:-0500
TZNAME:EST
DTSTART:20181104T060000
END:STANDARD
END:VTIMEZONE
BEGIN:VEVENT
DTSTART;TZID=America/New_York:20181204T100000
DTEND;TZID=America/New_York:20181204T113000
DTSTAMP:20260419T194255
CREATED:20180911T140730Z
LAST-MODIFIED:20181106T150814Z
UID:12750-1543917600-1543923000@treescharlotte.org
SUMMARY:Stewardship at Hickory Grove Elementary
DESCRIPTION:For this stewardship event\, TreesCharlotte is returning to the campus of Hickory Grove Elementary to do routine maintenance on the trees planted in Fall\, 2016.  TreesCharlotte periodically returns to school campuses to ensure that the trees we previously planted continue to thrive.  Stewardship events are vital to our mission of expanding Charlotte’s tree canopy. \nVolunteers will help with mulching and staking existing trees. \nTo ensure a safe and enjoyable event\, we are limiting the number of volunteers to 15 for this Stewardship event. \nSorry\, we have reached capacity of volunteers for this event but still need a few TreeMasters.  Contact Heike directly if you can help. \nEvents are held rain or shine.
URL:https://treescharlotte.org/event/stewardship-at-hickory-grove-elementary/
LOCATION:Hickory Grove Elementary\, 6709 Pence Road\, Charlotte\, NC\, 28215\, United States
CATEGORIES:Volunteer Project
END:VEVENT
END:VCALENDAR