﻿BEGIN:VCALENDAR
VERSION:2.0
PRODID:-//TreesCharlotte - ECPv5.16.4//NONSGML v1.0//EN
CALSCALE:GREGORIAN
METHOD:PUBLISH
X-WR-CALNAME:TreesCharlotte
X-ORIGINAL-URL:https://treescharlotte.org
X-WR-CALDESC:Events for TreesCharlotte
REFRESH-INTERVAL;VALUE=DURATION:PT1H
X-Robots-Tag:noindex
X-PUBLISHED-TTL:PT1H
BEGIN:VTIMEZONE
TZID:America/New_York
BEGIN:DAYLIGHT
TZOFFSETFROM:-0500
TZOFFSETTO:-0400
TZNAME:EDT
DTSTART:20200308T070000
END:DAYLIGHT
BEGIN:STANDARD
TZOFFSETFROM:-0400
TZOFFSETTO:-0500
TZNAME:EST
DTSTART:20201101T060000
END:STANDARD
END:VTIMEZONE
BEGIN:VEVENT
DTSTART;TZID=America/New_York:20200401T100000
DTEND;TZID=America/New_York:20200401T120000
DTSTAMP:20260422T224446
CREATED:20190920T142942Z
LAST-MODIFIED:20200316T130527Z
UID:15664-1585735200-1585742400@treescharlotte.org
SUMMARY:POSTPONED: Stewardship at Barringer Academic Center
DESCRIPTION:For this Workday Wednesday\, TreesCharlotte is returning to the campus of Barringer Academic Center to do routine maintenance on the trees planted in the Fall\, 2017.  TreesCharlotte periodically returns to school campuses to ensure that the trees we previously planted continue to thrive.  Stewardship events are vital to our mission of expanding Charlotte’s tree canopy. \nWe love our volunteers\, however\, general volunteers are not needed for this event.  Please check the events calendar for other opportunities highlighted in blue. \nWe are in need of 2-3 TreeMasters to help direct volunteers.  Learn more about the TreeMaster program here. \nOops! We could not locate your form.
URL:https://treescharlotte.org/event/stewardship-at-barringer-academic-center/
LOCATION:Barringer Academic Center\, 1546 Walton Road\, Charlotte\, NC\, 28208\, United States
CATEGORIES:Volunteer Project
END:VEVENT
BEGIN:VEVENT
DTSTART;TZID=America/New_York:20200408T100000
DTEND;TZID=America/New_York:20200408T120000
DTSTAMP:20260422T224446
CREATED:20200122T211423Z
LAST-MODIFIED:20200317T192922Z
UID:16883-1586340000-1586347200@treescharlotte.org
SUMMARY:POSTPONED: Stewardship at Southwest Middle Spring 2020
DESCRIPTION:With generous support from OneTree Planted\, TreesCharlotte is returning to the campus of Southwest Middle School to do routine maintenance on the trees planted in the Fall\, 2018.  TreesCharlotte periodically returns to school campuses to ensure that the trees we previously planted continue to thrive.  Stewardship events are vital to our mission of expanding Charlotte’s tree canopy. \nTo ensure a safe and enjoyable event\, we are limiting the number of volunteers to 20 for this TreeDay. Register early as our events “sell out” quickly. \nVolunteer groups of 10 or more\, please contact events director\, Heike Biller to determine if there is enough capacity. \nTree planting events are great for families and all ages are welcome. To ensure accurate active volunteer counts\, please list all participants on the registration form\, along with children’s ages. Children 16 and younger must be accompanied by an adult. \nWe are in need of 2-3 TreeMasters to help direct volunteers.  Learn more about the TreeMaster program here. \nOops! We could not locate your form.
URL:https://treescharlotte.org/event/16883/
LOCATION:Southwest Middle School\, 13624 Steele Creek Road\, Charlotte\, NC\, 28273\, United States
CATEGORIES:Volunteer Project
END:VEVENT
END:VCALENDAR