﻿BEGIN:VCALENDAR
VERSION:2.0
PRODID:-//TreesCharlotte - ECPv5.16.4//NONSGML v1.0//EN
CALSCALE:GREGORIAN
METHOD:PUBLISH
X-WR-CALNAME:TreesCharlotte
X-ORIGINAL-URL:https://treescharlotte.org
X-WR-CALDESC:Events for TreesCharlotte
REFRESH-INTERVAL;VALUE=DURATION:PT1H
X-Robots-Tag:noindex
X-PUBLISHED-TTL:PT1H
BEGIN:VTIMEZONE
TZID:America/New_York
BEGIN:DAYLIGHT
TZOFFSETFROM:-0500
TZOFFSETTO:-0400
TZNAME:EDT
DTSTART:20190310T070000
END:DAYLIGHT
BEGIN:STANDARD
TZOFFSETFROM:-0400
TZOFFSETTO:-0500
TZNAME:EST
DTSTART:20191103T060000
END:STANDARD
END:VTIMEZONE
BEGIN:VEVENT
DTSTART;TZID=America/New_York:20190302T090000
DTEND;TZID=America/New_York:20190302T113000
DTSTAMP:20260419T224951
CREATED:20190109T163517Z
LAST-MODIFIED:20190219T124529Z
UID:13892-1551517200-1551526200@treescharlotte.org
SUMMARY:Newell Elementary TreeDay
DESCRIPTION:Thanks to the generous support of Atrium Health\, TreesCharlotte will be planting approximately 150 trees on the Newell Elementary School campus with volunteers from Atrium Health. \nTo ensure a safe and enjoyable event\, we are limiting the number of volunteers to 50 for this TreeDay. Register early as our events “sell out” quickly.  Only 25 spots remain.   \nVolunteer groups of 10 or more\, please contact events director\, Heike Biller. \nTree planting events are great for families and everyone is welcome. To ensure accurate active volunteer counts\, please list all participants on the registration form\, along with children’s ages. Children 16 and younger must be accompanied by an adult. \nChildren activities will be provided between 9:00 and 10:00am by our community partner\, NC Wildlife Federation. \nTreesCharlotte is exited to partner with CupLux Coffee to provide our volunteers with delicious\, hand crafted coffee at our events. \nEvents are held rain or shine.  A modest rainfall actually provides ideal planting conditions. \nDeadline to register is Sunday\, February 24. \nOnce registered\, more detailed information will be emailed to you the week of the event.
URL:https://treescharlotte.org/event/newell-elementary-treeday/
LOCATION:Newell Elementary\, 325 Rocky River Road W\, Charlotte\, NC\, 28213\, United States
CATEGORIES:Volunteer Project
END:VEVENT
BEGIN:VEVENT
DTSTART;TZID=America/New_York:20190314T090000
DTEND;TZID=America/New_York:20190314T120000
DTSTAMP:20260419T224951
CREATED:20190108T190229Z
LAST-MODIFIED:20190306T161049Z
UID:13704-1552554000-1552564800@treescharlotte.org
SUMMARY:Briar Creek TreeDay Event
DESCRIPTION:Thanks to the generous support of Piedmont Natural Gas\, TreesCharlotte will be planting approximately 200 trees along Briar Creek with volunteers from Piedmont Natural Gas and the community. \nVolunteers will need to walk at least .5 miles to get to the planting locations along the greenway. \nTo ensure a safe and enjoyable event\, we are limiting the number of volunteers to 50 for this TreeDay. Register early as our events “sell out” quickly.  Only 10 spots remain.   \nVolunteer groups of 10 or more\, please contact events director\, Heike Biller. \nTree planting events are great for families and everyone is welcome. To ensure accurate active volunteer counts\, please list all participants on the registration form\, along with children’s ages. Children 16 and younger must be accompanied by an adult. \nEvents are held rain or shine.  A modest rainfall actually provides ideal planting conditions. \nDeadline to register is Sunday\, March 10. \nOnce registered\, more detailed information will be emailed to you the week of the event.
URL:https://treescharlotte.org/event/briar-creek-treeday-event/
LOCATION:Mint Museum Randolph\, 2730 Randolph Road\, Charlotte\, NC\, 28207\, United States
CATEGORIES:Volunteer Project
END:VEVENT
BEGIN:VEVENT
DTSTART;TZID=America/New_York:20190320T100000
DTEND;TZID=America/New_York:20190320T120000
DTSTAMP:20260419T224951
CREATED:20190123T141743Z
LAST-MODIFIED:20190226T130540Z
UID:14051-1553076000-1553083200@treescharlotte.org
SUMMARY:Stewardship at Southwest Middle 3/20/19
DESCRIPTION:Stewarding the 600+ trees planted in the Fall of 2017 at Southwest Middle is such a big job that we are hosting this second Stewardship event. TreesCharlotte periodically returns to school campuses to ensure that the trees we previously planted continue to thrive.  Stewardship events are vital to our mission of expanding Charlotte’s tree canopy. \nVolunteers will help with mulching and staking existing trees. \nTo ensure a safe and enjoyable event\, we are limiting the number of volunteers to 50 for this Stewardship event.  Deadline to register is Sunday\, March 17. \nEvents are held rain or shine.
URL:https://treescharlotte.org/event/stewardship-at-southwest-middle-school-feb-27/
LOCATION:Southwest Middle School\, 13624 Steele Creek Road\, Charlotte\, NC\, 28273\, United States
CATEGORIES:Volunteer Project
END:VEVENT
BEGIN:VEVENT
DTSTART;TZID=America/New_York:20190322T130000
DTEND;TZID=America/New_York:20190322T153000
DTSTAMP:20260419T224951
CREATED:20190109T164755Z
LAST-MODIFIED:20190227T193035Z
UID:13895-1553259600-1553268600@treescharlotte.org
SUMMARY:CPCC Harris Conference Center TreeDay Event
DESCRIPTION:In celebration of Arbor Day\, TreesCharlotte will be planting 45 trees around CPCC’s Harris Conference Center campus. \nTo ensure a safe and enjoyable event\, we are limiting the number of volunteers to 25 for this TreeDay. Register early as our events “sell out” quickly.  Only 20 spots remain.   \nVolunteer groups of 10 or more\, please contact events director\, Heike Biller. \nTree planting events are great for families and everyone is welcome. To ensure accurate active volunteer counts\, please list all participants on the registration form\, along with children’s ages. Children 16 and younger must be accompanied by an adult. \nEvents are held rain or shine.  A modest rainfall actually provides ideal planting conditions. \nDeadline to register is Sunday\, March 17. \nOnce registered\, more detailed information will be emailed to you the week of the event.
URL:https://treescharlotte.org/event/cpcc-harris-conference-center-treeday-event/
LOCATION:Harris Conference Center\, 3216 CPCC Harris Campus Drive\, Charlotte\, NC\, 28208\, United States
CATEGORIES:Volunteer Project
END:VEVENT
BEGIN:VEVENT
DTSTART;TZID=America/New_York:20190330T090000
DTEND;TZID=America/New_York:20190330T113000
DTSTAMP:20260419T224951
CREATED:20181213T172657Z
LAST-MODIFIED:20190326T164016Z
UID:12099-1553936400-1553945400@treescharlotte.org
SUMMARY:Lawrence Orr Elementary TreeDay Event
DESCRIPTION:Thanks to the generous support of Bank of America\, TreesCharlotte will be planting approximately 350 trees on the campus of Lawrence Orr Elementary School. \nTo ensure a safe and enjoyable event\, we are limiting the number of volunteers to 150 for this TreeDay. Register early as our events “sell out” quickly.  Only 0 spots remain.   \nVolunteer groups of 10 or more\, please contact events director\, Heike Biller. \nTree planting events are great for families and everyone is welcome. To ensure accurate active volunteer counts\, please list all participants on the registration form\, along with children’s ages. Children 16 and younger must be accompanied by an adult. \nChildren activities will be provided between 9:00 and 10:00am by our community partner\, NC Wildlife Federation. \nTreesCharlotte is exited to partner with CupLux Coffee to provide our volunteers with delicious\, hand crafted coffee at our events. \nEvents are held rain or shine.  A modest rainfall actually provides ideal planting conditions. \nDeadline to register is Sunday\, March 24.  If you are a student or teacher at Lawrence Orr Elementary and would like to volunteer\, please contact Heike Biller (heike@treescharlotte.org) directly. \nOnce registered\, more detailed information will be emailed to you the week of the event.
URL:https://treescharlotte.org/event/lawrence-orr-elementary-treeday-event/
LOCATION:Lawrence Orr Elementary\, 4835 Shamrock Drive\, Charlotte\, NC\, 28215\, United States
CATEGORIES:Volunteer Project
END:VEVENT
END:VCALENDAR