﻿BEGIN:VCALENDAR
VERSION:2.0
PRODID:-//TreesCharlotte - ECPv5.16.4//NONSGML v1.0//EN
CALSCALE:GREGORIAN
METHOD:PUBLISH
X-ORIGINAL-URL:https://treescharlotte.org
X-WR-CALDESC:Events for TreesCharlotte
REFRESH-INTERVAL;VALUE=DURATION:PT1H
X-Robots-Tag:noindex
X-PUBLISHED-TTL:PT1H
BEGIN:VTIMEZONE
TZID:America/New_York
BEGIN:DAYLIGHT
TZOFFSETFROM:-0500
TZOFFSETTO:-0400
TZNAME:EDT
DTSTART:20190310T070000
END:DAYLIGHT
BEGIN:STANDARD
TZOFFSETFROM:-0400
TZOFFSETTO:-0500
TZNAME:EST
DTSTART:20191103T060000
END:STANDARD
END:VTIMEZONE
BEGIN:VEVENT
DTSTART;TZID=America/New_York:20190202T090000
DTEND;TZID=America/New_York:20190202T113000
DTSTAMP:20260419T211549
CREATED:20180726T143841Z
LAST-MODIFIED:20190123T140225Z
UID:12071-1549098000-1549107000@treescharlotte.org
SUMMARY:Carmel Middle School TreeDay Event
DESCRIPTION:TreesCharlotte will be planting approximately 100 trees on the campus of Carmel Middle School. \nTo ensure a safe and enjoyable event\, we are limiting the number of volunteers to 50 for this TreeDay. Register early as our events “sell out” quickly. 10 spots remain.  Please visit our events calendar for additional volunteer opportunities. \nTree planting events are great for families and everyone is welcome. To ensure accurate active volunteer counts\, please list all participants on the registration form\, along with children’s ages. Children 16 and younger must be accompanied by an adult. \nEvents are held rain or shine.  A modest rainfall actually provides ideal planting conditions. \nDeadline to register is Sunday\, January 27. \nOnce registered\, more detailed information will be emailed to you the week of the event. \nWe have plenty of TreeMaster help for this one.    TreeMasters\, please click here to register to ensure your hours are recorded. 
URL:https://treescharlotte.org/event/__trashed/
LOCATION:Carmel Middle School\, 5001 Camilla Drive\, Charlotte\, NC\, 28226\, United States
CATEGORIES:Volunteer Project
END:VEVENT
BEGIN:VEVENT
DTSTART;TZID=America/New_York:20190213T100000
DTEND;TZID=America/New_York:20190213T113000
DTSTAMP:20260419T211549
CREATED:20181226T221840Z
LAST-MODIFIED:20190123T141756Z
UID:13711-1550052000-1550057400@treescharlotte.org
SUMMARY:Stewardship at Southwest Middle School Feb. 13
DESCRIPTION:For this Workday Wednesday\, TreesCharlotte is returning to the campus of Southwest Middle to do routine maintenance on the trees planted in Fall\, 2017.  TreesCharlotte periodically returns to school campuses to ensure that the trees we previously planted continue to thrive.  Stewardship events are vital to our mission of expanding Charlotte’s tree canopy. \nVolunteers will help with mulching and staking existing trees. \nTo ensure a safe and enjoyable event\, we are limiting the number of volunteers to 50 for this Stewardship event.  Deadline to register is Sunday\, February 10. \nEvents are held rain or shine.
URL:https://treescharlotte.org/event/stewardship-at-southwest-middle-school/
LOCATION:Southwest Middle School\, 13624 Steele Creek Road\, Charlotte\, NC\, 28273\, United States
CATEGORIES:Volunteer Project
END:VEVENT
BEGIN:VEVENT
DTSTART;TZID=America/New_York:20190215T130000
DTEND;TZID=America/New_York:20190215T143000
DTSTAMP:20260419T211549
CREATED:20190130T144654Z
LAST-MODIFIED:20190211T204749Z
UID:14102-1550235600-1550241000@treescharlotte.org
SUMMARY:Enclave Neighborhood TreeDay
DESCRIPTION:TreesCharlotte will be planting approximately 45 trees in common areas around the Enclave neighborhood. \nTo ensure a safe and enjoyable event\, we are limiting the number of volunteers to 20 for this TreeDay. Register early as our events “sell out” quickly. 10 spots remain.  \nTree planting events are great for families and everyone is welcome. To ensure accurate active volunteer counts\, please list all participants on the registration form\, along with children’s ages. Children 16 and younger must be accompanied by an adult. \nEvents are held rain or shine.  A modest rainfall actually provides ideal planting conditions. \nDeadline to register is Thursday\, February 14. \nOnce registered\, more detailed information will be emailed to you the week of the event.
URL:https://treescharlotte.org/event/enclave-neighborhood-treeday/
LOCATION:NC
CATEGORIES:Volunteer Project
END:VEVENT
BEGIN:VEVENT
DTSTART;TZID=America/New_York:20190223T100000
DTEND;TZID=America/New_York:20190223T120000
DTSTAMP:20260419T211549
CREATED:20181119T151821Z
LAST-MODIFIED:20190129T131406Z
UID:12118-1550916000-1550923200@treescharlotte.org
SUMMARY:Ayrsley Neighborhood TreeDay Event
DESCRIPTION:Having completed a NeighborWoods Application and been accepted into the program\, TreesCharlotte is pleased to be partnering with the Ayrsley neighborhood to plant approximately 100 trees in common areas around their neighborhood. \nTo ensure a safe and enjoyable event\, we are limiting the number of volunteers to 50 and the number of TreeMasters to 8 for this TreeDay. Register early as our events “sell out” quickly. Only 10 spots remain. \nTree planting events are great for families and everyone is welcome. To ensure accurate active volunteer counts\, please list all participants on the registration form\, along with children’s ages. Children 16 and younger must be accompanied by an adult. \nEvents are held rain or shine.  A modest rainfall actually provides ideal planting conditions. \nDeadline to register is Sunday\, February 17. \nOnce registered\, more detailed information will be emailed to you the week of the event. \nOops! We could not locate your form.
URL:https://treescharlotte.org/event/ayrsley-neighborhood-treeday-event/
LOCATION:NC
CATEGORIES:Volunteer Project
END:VEVENT
BEGIN:VEVENT
DTSTART;TZID=America/New_York:20190228T140000
DTEND;TZID=America/New_York:20190228T170000
DTSTAMP:20260419T211549
CREATED:20181214T191059Z
LAST-MODIFIED:20190221T231425Z
UID:13685-1551362400-1551373200@treescharlotte.org
SUMMARY:Seedling Prep Event with the Toyota Green Initiative
DESCRIPTION:As a part of the CIAA Tournament\, TreesCharlotte is pleased to partner with the Toyota Green Initiative in the promotion of sustainability in African-American communities.  Make a change by donating time to revitalize the Johnson C. Smith University Sustainability Village Garden with gardening activities and tree seedling preparation. \nIn addition to gardening activities\, help is needed to prepare seedlings to be given away at outreach events around Charlotte. This is a great opportunity for groups or organizations and for anyone needing school community service hours; appropriate for anyone ten years or older. \nVolunteers will soak seedlings in water\, wrap them in newspaper\, and place them in a bag. Seedlings are bare root and very messy. Come prepared to get dirty. \nClick here to register to volunteer.
URL:https://treescharlotte.org/event/seedling-prep-event-with-the-toyota-green-initiative/
LOCATION:Johnson C. Smith University\, 608 North Summit Avenue\, Charlotte\, NC\, 28216\, United States
CATEGORIES:Volunteer Project
END:VEVENT
END:VCALENDAR