﻿BEGIN:VCALENDAR
VERSION:2.0
PRODID:-//TreesCharlotte - ECPv5.16.4//NONSGML v1.0//EN
CALSCALE:GREGORIAN
METHOD:PUBLISH
X-WR-CALNAME:TreesCharlotte
X-ORIGINAL-URL:https://treescharlotte.org
X-WR-CALDESC:Events for TreesCharlotte
REFRESH-INTERVAL;VALUE=DURATION:PT1H
X-Robots-Tag:noindex
X-PUBLISHED-TTL:PT1H
BEGIN:VTIMEZONE
TZID:America/New_York
BEGIN:DAYLIGHT
TZOFFSETFROM:-0500
TZOFFSETTO:-0400
TZNAME:EDT
DTSTART:20180311T070000
END:DAYLIGHT
BEGIN:STANDARD
TZOFFSETFROM:-0400
TZOFFSETTO:-0500
TZNAME:EST
DTSTART:20181104T060000
END:STANDARD
END:VTIMEZONE
BEGIN:VEVENT
DTSTART;TZID=America/New_York:20181114T100000
DTEND;TZID=America/New_York:20181114T113000
DTSTAMP:20260419T180055
CREATED:20180808T163549Z
LAST-MODIFIED:20181020T201543Z
UID:12360-1542189600-1542195000@treescharlotte.org
SUMMARY:Stewardship at Robert F. Kennedy Middle School
DESCRIPTION:For this Workday Wednesday\, TreesCharlotte is returning to the campus of Kennedy Middle School to do routine maintenance on the trees planted in Fall\, 2016.  TreesCharlotte periodically returns to school campuses to ensure that the trees we previously planted continue to thrive.  Stewardship events are vital to our mission of expanding Charlotte’s tree canopy. \nVolunteers will help with mulching and staking existing trees.  Events are held rain or shine. \nTo ensure a safe and enjoyable event\, we are limiting the number of volunteers to 15 for this Stewardship event. O spots remaining.
URL:https://treescharlotte.org/event/stewardship-at-robert-f-kennedy-middle-school/
LOCATION:Kennedy Middle School\, 4000 Gallant Lane\, Charlotte\, NC\, 28273\, United States
CATEGORIES:Volunteer Project
END:VEVENT
BEGIN:VEVENT
DTSTART;TZID=America/New_York:20181117T090000
DTEND;TZID=America/New_York:20181117T113000
DTSTAMP:20260419T180055
CREATED:20180726T134215Z
LAST-MODIFIED:20181109T190901Z
UID:12094-1542445200-1542454200@treescharlotte.org
SUMMARY:Park South Station Tree Planting Event
DESCRIPTION:Having completed a NeighborWoods Application and been accepted into the program\, TreesCharlotte is pleased to be partnering with the Park South Station neighborhood to plant approximately 400 trees in common areas around their neighborhood. \nTo ensure a safe and enjoyable event\, we are limiting the number of volunteers to 200 for this TreeDay. Register early as our events “sell out” quickly.  5 spots remaining. \nTree planting events are great for families and everyone is welcome. To ensure accurate active volunteer counts\, please list all participants on the registration form\, along with children’s ages. Children 16 and younger must be accompanied by an adult. \nEvents are held rain or shine.  A modest rainfall actually provides ideal planting conditions. \nDeadline to register is Sunday\, November 11. \nOnce registered\, more detailed information will be emailed to you the week of the event.
URL:https://treescharlotte.org/event/park-south-station-tree-planting-event/
LOCATION:NC
CATEGORIES:Volunteer Project
END:VEVENT
BEGIN:VEVENT
DTSTART;TZID=America/New_York:20181127T100000
DTEND;TZID=America/New_York:20181127T120000
DTSTAMP:20260419T180055
CREATED:20180817T130327Z
LAST-MODIFIED:20181120T173654Z
UID:12449-1543312800-1543320000@treescharlotte.org
SUMMARY:Stewardship at Paw Creek Elementary
DESCRIPTION:For this year’s GivingTuesday\, TreesCharlotte is partnering with District Rotary and returning to the campus of Paw Creek Elementary to do routine maintenance on the trees planted in Spring\, 2018.  TreesCharlotte periodically returns to school campuses to ensure that the trees we previously planted continue to thrive.  Stewardship events are vital to our mission of expanding Charlotte’s tree canopy. \nWe love our volunteers\, however this event is reserved for Rotary members and TreeMasters.  Please visit our events calendar for other volunteer opportunities.  \nVolunteers will help mulch existing trees as well as plant a few more. \nTo ensure a safe and enjoyable event\, we are limiting the number of volunteers to 35 for this Stewardship event.  Deadline to register is Sunday\, November 25. \nEvents are held rain or shine.
URL:https://treescharlotte.org/event/stewardship-at-paw-creek-elementary/
LOCATION:Paw Creek Elementary\, 1300 Cathey Road\, Charlotte\, NC\, 28214\, United States
CATEGORIES:Volunteer Project
END:VEVENT
END:VCALENDAR