﻿BEGIN:VCALENDAR
VERSION:2.0
PRODID:-//TreesCharlotte - ECPv5.16.4//NONSGML v1.0//EN
CALSCALE:GREGORIAN
METHOD:PUBLISH
X-WR-CALNAME:TreesCharlotte
X-ORIGINAL-URL:https://treescharlotte.org
X-WR-CALDESC:Events for TreesCharlotte
REFRESH-INTERVAL;VALUE=DURATION:PT1H
X-Robots-Tag:noindex
X-PUBLISHED-TTL:PT1H
BEGIN:VTIMEZONE
TZID:America/New_York
BEGIN:DAYLIGHT
TZOFFSETFROM:-0500
TZOFFSETTO:-0400
TZNAME:EDT
DTSTART:20180311T070000
END:DAYLIGHT
BEGIN:STANDARD
TZOFFSETFROM:-0400
TZOFFSETTO:-0500
TZNAME:EST
DTSTART:20181104T060000
END:STANDARD
END:VTIMEZONE
BEGIN:VEVENT
DTSTART;TZID=America/New_York:20181006T090000
DTEND;TZID=America/New_York:20181006T113000
DTSTAMP:20260419T144910
CREATED:20180802T183559Z
LAST-MODIFIED:20181003T123213Z
UID:12104-1538816400-1538825400@treescharlotte.org
SUMMARY:Brightwalk TreeDay Event
DESCRIPTION:Thanks to the generous support of Novant Health\, TreesCharlotte will be planting approximately 50 trees in the Brightwalk neighborhood. \nTo ensure a safe and enjoyable event\, we are limiting the number of volunteers to 25 for this TreeDay. Register early as our events “sell out” quickly. Only 10 spots remaining. \nTree planting events are great for families and everyone is welcome. To ensure accurate active volunteer counts\, please list all participants on the registration form\, along with children’s ages. Children 16 and younger must be accompanied by an adult. \nEvents are held rain or shine.  A modest rainfall actually provides ideal planting conditions. \nDeadline to register is Monday\, October 1. \nOnce registered\, more detailed information will be emailed to you the week of the event. \nTreeMasters\, please register here to keep track of your hours. \n 
URL:https://treescharlotte.org/event/brightwalk-treeday-event/
LOCATION:Brightwalk 2018\, Double Oaks Road and Woodward Avenue\, Charlotte\, NC\, 28206\, United States
CATEGORIES:Volunteer Project
END:VEVENT
BEGIN:VEVENT
DTSTART;TZID=America/New_York:20181020T090000
DTEND;TZID=America/New_York:20181020T113000
DTSTAMP:20260419T144910
CREATED:20180828T144500Z
LAST-MODIFIED:20181003T122117Z
UID:12112-1540026000-1540035000@treescharlotte.org
SUMMARY:Madison Central Park TreeDay Event
DESCRIPTION:TreesCharlotte will be planting approximately 35 trees in Madison Central Park. \nTo ensure a safe and enjoyable event\, we are limiting the number of volunteers to 20 for this TreeDay. Register early as our events “sell out” quickly. Only 0 spots remaining. \nTree planting events are great for families and everyone is welcome. To ensure accurate active volunteer counts\, please list all participants on the registration form\, along with children’s ages. Children 16 and younger must be accompanied by an adult. \nEvents are held rain or shine.  A modest rainfall actually provides ideal planting conditions. \nDeadline to register is Sunday\, October 14. \nOnce registered\, more detailed information will be emailed to you the week of the event.  TreeMasters\, please register here to ensure your hours are recorded.
URL:https://treescharlotte.org/event/madison-central-park-treeday-event/
LOCATION:NC
CATEGORIES:Volunteer Project
END:VEVENT
BEGIN:VEVENT
DTSTART;TZID=America/New_York:20181020T093000
DTEND;TZID=America/New_York:20181020T113000
DTSTAMP:20260419T144910
CREATED:20180802T163535Z
LAST-MODIFIED:20180917T155838Z
UID:12089-1540027800-1540035000@treescharlotte.org
SUMMARY:Huntingtowne Farms Elementary TreeDay Event
DESCRIPTION:Thanks to the generous support of AXA\, TreesCharlotte will be planting approximately 50 trees on the campus of Huntingtowne Farms Elementary School. \nWe love our volunteers\, however\, general volunteers are not needed for this event. Please check the events calendar for other volunteer opportunities. \nSign-ups for this event are limited to TreeMasters.  To learn more about the TreeMaster program\, please click here. \n\n  \n 
URL:https://treescharlotte.org/event/huntingtowne-farms-elementary-treeday-event/
LOCATION:Huntingtowne Farms Elementary\, 2520 Huntingtowne Farms Lane\, Charlotte\, NC\, 28210\, United States
CATEGORIES:Volunteer Project
END:VEVENT
BEGIN:VEVENT
DTSTART;TZID=America/New_York:20181020T110000
DTEND;TZID=America/New_York:20181020T123000
DTSTAMP:20260419T144910
CREATED:20180802T182437Z
LAST-MODIFIED:20181009T165516Z
UID:12126-1540033200-1540038600@treescharlotte.org
SUMMARY:Collins Park TreeDay Planting Event
DESCRIPTION:Thanks to the generous support of Wells Fargo\, TreesCharlotte is pleased to be partnering with the Collingwood neighborhood to plant approximately 20 trees in Collins Park. \nTo ensure a safe and enjoyable event\, we are limiting the number of volunteers to 10 for this TreeDay. Register early as our events “sell out” quickly.  Only 4 spots remaining. \nTree planting events are great for families and everyone is welcome. To ensure accurate active volunteer counts\, please list all participants on the registration form\, along with children’s ages. Children 16 and younger must be accompanied by an adult. \nEvents are held rain or shine.  A modest rainfall actually provides ideal planting conditions. \nDeadline to register to volunteer is Sunday\, October 14. \nOnce registered\, more detailed information will be emailed to you the week of the event. \n\n 
URL:https://treescharlotte.org/event/collins-park-treeday-planting-event/
LOCATION:NC
CATEGORIES:Volunteer Project
END:VEVENT
BEGIN:VEVENT
DTSTART;TZID=America/New_York:20181024T100000
DTEND;TZID=America/New_York:20181024T113000
DTSTAMP:20260419T144910
CREATED:20180808T162533Z
LAST-MODIFIED:20181011T183849Z
UID:12356-1540375200-1540380600@treescharlotte.org
SUMMARY:Stewardship at Hornets Nest Elementary
DESCRIPTION:For this Workday Wednesday\, TreesCharlotte is returning to the campus of Hornets Nest Elementary to do routine maintenance on the trees planted in Fall\, 2016.  TreesCharlotte periodically returns to school campuses to ensure that the trees we previously planted continue to thrive.  Stewardship events are vital to our mission of expanding Charlotte’s tree canopy. \nVolunteers will help with mulching and staking existing trees. \nTo ensure a safe and enjoyable event\, we are limiting the number of volunteers to 15 for this Stewardship event.  Deadline to register is Sunday\, October 21. \nEvents are held rain or shine.
URL:https://treescharlotte.org/event/stewardship-at-hornets-nest-elementry/
LOCATION:Hornets Nest Elementary\, 6700 Beatties Ford Road\, Charlotte\, NC\, 28216\, United States
CATEGORIES:Volunteer Project
END:VEVENT
BEGIN:VEVENT
DTSTART;TZID=America/New_York:20181031T130000
DTEND;TZID=America/New_York:20181031T153000
DTSTAMP:20260419T144910
CREATED:20180802T150403Z
LAST-MODIFIED:20180824T134839Z
UID:12046-1540990800-1540999800@treescharlotte.org
SUMMARY:Reedy Creek Elementary TreeDay Event
DESCRIPTION:With the generous support of Duke Energy\, TreesCharlotte will be planting approximately 115 trees on the campus of Reedy Creek Elementary with volunteers from Duke Energy. \nWe love our volunteers\, however\, general volunteers are not needed for this event. Please check the events calendar for other volunteer opportunities. \nSign-ups for this event are limited to TreeMasters.  To learn more about the TreeMaster program\, please click here.
URL:https://treescharlotte.org/event/reedy-creek-elementary-treeday-event/
LOCATION:Reedy Creek Elementary\, 10801 Plaza Rd Extension\, Charlotte\, NC\, 28215\, United States
CATEGORIES:Volunteer Project
END:VEVENT
END:VCALENDAR