﻿BEGIN:VCALENDAR
VERSION:2.0
PRODID:-//TreesCharlotte - ECPv5.16.4//NONSGML v1.0//EN
CALSCALE:GREGORIAN
METHOD:PUBLISH
X-ORIGINAL-URL:https://treescharlotte.org
X-WR-CALDESC:Events for TreesCharlotte
REFRESH-INTERVAL;VALUE=DURATION:PT1H
X-Robots-Tag:noindex
X-PUBLISHED-TTL:PT1H
BEGIN:VTIMEZONE
TZID:America/New_York
BEGIN:DAYLIGHT
TZOFFSETFROM:-0500
TZOFFSETTO:-0400
TZNAME:EDT
DTSTART:20200308T070000
END:DAYLIGHT
BEGIN:STANDARD
TZOFFSETFROM:-0400
TZOFFSETTO:-0500
TZNAME:EST
DTSTART:20201101T060000
END:STANDARD
END:VTIMEZONE
BEGIN:VEVENT
DTSTART;TZID=America/New_York:20200419T120000
DTEND;TZID=America/New_York:20200419T160000
DTSTAMP:20260421T221826
CREATED:20200228T181608Z
LAST-MODIFIED:20200413T210922Z
UID:17236-1587297600-1587312000@treescharlotte.org
SUMMARY:CANCELLED: Meet TreesCharlotte: Birdsong's Earth Day Party
DESCRIPTION:Come to Birdsong to celebrate Earth Day with TreesCharlotte! The event will take place during the afternoon from approximately 12-4pm and will be complete with live music and food trucks\, as well as a special infusion of their Sunshine Gose. \nOops! We could not locate your form.
URL:https://treescharlotte.org/event/meet-treescharlotte-birdsongs-earth-day-party/
LOCATION:birdsong brewing\, 1016 N Davidson Street\, Charlotte\, North Carolina
CATEGORIES:TreeAmbassador Event
END:VEVENT
BEGIN:VEVENT
DTSTART;TZID=America/New_York:20200419T130000
DTEND;TZID=America/New_York:20200419T170000
DTSTAMP:20260421T221826
CREATED:20200115T143841Z
LAST-MODIFIED:20200413T211009Z
UID:16782-1587301200-1587315600@treescharlotte.org
SUMMARY:CANCELLED: Meet TreesCharlotte: Open Streets 704
DESCRIPTION:Come meet with TreesCharlotte at the upcoming Open Streets event! \nOpen Streets 704 is a series of Charlotte events that will literally open a length of city streets for an afternoon just for people! Taking cues from similar events around the country and the world\, Open Streets 704 aims to build a better\, healthier\, connected community by encouraging Charlotte and Mecklenburg area residents to walk\, bicycle\, and experience the city together in a way that’s just not possible in a car. For more information check www.openstreets704.com \nOops! We could not locate your form.
URL:https://treescharlotte.org/event/meet-treescharlotte-open-streets-704-2/
LOCATION:Green Zone\, 1951 N Davidson street\, Charlotte\, 28205
CATEGORIES:TreeAmbassador Event
END:VEVENT
END:VCALENDAR