﻿BEGIN:VCALENDAR
VERSION:2.0
PRODID:-//TreesCharlotte - ECPv5.16.4//NONSGML v1.0//EN
CALSCALE:GREGORIAN
METHOD:PUBLISH
X-WR-CALNAME:TreesCharlotte
X-ORIGINAL-URL:https://treescharlotte.org
X-WR-CALDESC:Events for TreesCharlotte
REFRESH-INTERVAL;VALUE=DURATION:PT1H
X-Robots-Tag:noindex
X-PUBLISHED-TTL:PT1H
BEGIN:VTIMEZONE
TZID:America/New_York
BEGIN:DAYLIGHT
TZOFFSETFROM:-0500
TZOFFSETTO:-0400
TZNAME:EDT
DTSTART:20200308T070000
END:DAYLIGHT
BEGIN:STANDARD
TZOFFSETFROM:-0400
TZOFFSETTO:-0500
TZNAME:EST
DTSTART:20201101T060000
END:STANDARD
END:VTIMEZONE
BEGIN:VEVENT
DTSTART;TZID=America/New_York:20200418T090000
DTEND;TZID=America/New_York:20200418T140000
DTSTAMP:20260421T221237
CREATED:20200115T150812Z
LAST-MODIFIED:20200413T210637Z
UID:16786-1587200400-1587218400@treescharlotte.org
SUMMARY:CANCELLED: Meet TreesCharlotte: Matthews Earth day
DESCRIPTION:Presented by Habitat and Wildlife Keepers (HAWK)\, come out to Squirrel Lake Park\, in Matthews\, to celebrate Earth Day! \nThis annual event aims to help the community learn to appreciate and care for our natural resources while promoting awareness of the necessity to care for the Earth’s environment. \nThere will be lots of great vendors and activities. TreesCharlotte looks forward to seeing you there! \nOops! We could not locate your form.
URL:https://treescharlotte.org/event/meet-treescharlotte-matthews-earth-day/
LOCATION:squirrel lake park\, 1631 Pleasant Plains road\, Matthews\, 28105
CATEGORIES:TreeAmbassador Event
END:VEVENT
END:VCALENDAR