﻿BEGIN:VCALENDAR
VERSION:2.0
PRODID:-//TreesCharlotte - ECPv5.16.4//NONSGML v1.0//EN
CALSCALE:GREGORIAN
METHOD:PUBLISH
X-ORIGINAL-URL:https://treescharlotte.org
X-WR-CALDESC:Events for TreesCharlotte
REFRESH-INTERVAL;VALUE=DURATION:PT1H
X-Robots-Tag:noindex
X-PUBLISHED-TTL:PT1H
BEGIN:VTIMEZONE
TZID:America/New_York
BEGIN:DAYLIGHT
TZOFFSETFROM:-0500
TZOFFSETTO:-0400
TZNAME:EDT
DTSTART:20200308T070000
END:DAYLIGHT
BEGIN:STANDARD
TZOFFSETFROM:-0400
TZOFFSETTO:-0500
TZNAME:EST
DTSTART:20201101T060000
END:STANDARD
END:VTIMEZONE
BEGIN:VEVENT
DTSTART;TZID=America/New_York:20200620T100000
DTEND;TZID=America/New_York:20200620T140000
DTSTAMP:20260421T110956
CREATED:20200115T152248Z
LAST-MODIFIED:20200316T133110Z
UID:16791-1592647200-1592661600@treescharlotte.org
SUMMARY:POSTPONED: STEM on the Wing Day
DESCRIPTION:Take off into science at STEM on the Wing Day at Carolina Raptor Center. The Center has partnered with science organizations from all over Charlotte – including TreesCharlotte – to bring exciting and interactive activities for all ages to the Raptor Trail! Throughout the day\, the Center’s expert flight team will ignite your imagination with a series of appearances. Exercise your brain and explore your inner geek at this celebration of science\, technology\, engineering\, and mathematics on April 4th from 10 am-2pm. And to top it all off\, admission is FREE all day. \nTreesCharlotte will be one of the non-profits on site with tree cookie necklaces\, seedlings and fun trivia. \n 
URL:https://treescharlotte.org/event/meet-treescharlotte-stem-on-the-wing-day/
LOCATION:Raptor Center\, 6000 Sample Road\, Huntersville\, NC\, 28078\, United States
CATEGORIES:TreeAmbassador Event
END:VEVENT
END:VCALENDAR