﻿BEGIN:VCALENDAR
VERSION:2.0
PRODID:-//TreesCharlotte - ECPv5.16.4//NONSGML v1.0//EN
CALSCALE:GREGORIAN
METHOD:PUBLISH
X-ORIGINAL-URL:https://treescharlotte.org
X-WR-CALDESC:Events for TreesCharlotte
REFRESH-INTERVAL;VALUE=DURATION:PT1H
X-Robots-Tag:noindex
X-PUBLISHED-TTL:PT1H
BEGIN:VTIMEZONE
TZID:America/New_York
BEGIN:DAYLIGHT
TZOFFSETFROM:-0500
TZOFFSETTO:-0400
TZNAME:EDT
DTSTART:20200308T070000
END:DAYLIGHT
BEGIN:STANDARD
TZOFFSETFROM:-0400
TZOFFSETTO:-0500
TZNAME:EST
DTSTART:20201101T060000
END:STANDARD
END:VTIMEZONE
BEGIN:VEVENT
DTSTART;TZID=America/New_York:20200516T100000
DTEND;TZID=America/New_York:20200516T130000
DTSTAMP:20260421T122857
CREATED:20200214T152840Z
LAST-MODIFIED:20200511T143904Z
UID:17095-1589623200-1589634000@treescharlotte.org
SUMMARY:CANCELLED: Meet TreesCharlotte: Birds\, Nature and Community Day
DESCRIPTION:Come spend some time with TreesCharlotte at the 2nd Annual Birds\, Nature and Community Day sponsored by the Mecklenburg Audubon Society and the North End Community Coalition. \n 
URL:https://treescharlotte.org/event/meet-treescharlotte-birds-nature-and-community-day/
LOCATION:Druid Hills Neighborhood\, 2801 Poinsett Street\, Charlotte\, North Carolina\, 28206
CATEGORIES:TreeAmbassador Event
END:VEVENT
BEGIN:VEVENT
DTSTART;TZID=America/New_York:20200523T120000
DTEND;TZID=America/New_York:20200523T150000
DTSTAMP:20260421T122857
CREATED:20200228T182828Z
LAST-MODIFIED:20200511T151533Z
UID:17241-1590235200-1590246000@treescharlotte.org
SUMMARY:POSTPONED: Meet TreesCharlotte: Faith Church's Jam Fest
DESCRIPTION:Spend time with TreesCharlotte at Faith Christian Methodist Episcopal Church\, who is hosting their annual Jam Fest! 2\,000 people will attend a “Love to the Community Jam Fest Outreach on Saturday\, May 23\, 2020. This event will consist of Free Bikes\, Free Hair Cuts\, Health Fair\, Job Fair\, Hot Dogs\, Groceries\, I-pods\, Pie Eating Contest\, I-Pad\, games\, giveaways\, free bibles\, toys\, prizes\, moon bounce\, clothing and much more. All these items will be FREE!
URL:https://treescharlotte.org/event/meet-treescharlotte-faith-churchs-jam-fest/
LOCATION:Faith CME Church\, 457 Wellingford Street\, Charlotte\, NC\, 28213\, United States
CATEGORIES:TreeAmbassador Event
END:VEVENT
END:VCALENDAR