﻿BEGIN:VCALENDAR
VERSION:2.0
PRODID:-//TreesCharlotte - ECPv5.16.4//NONSGML v1.0//EN
CALSCALE:GREGORIAN
METHOD:PUBLISH
X-WR-CALNAME:TreesCharlotte
X-ORIGINAL-URL:https://treescharlotte.org
X-WR-CALDESC:Events for TreesCharlotte
REFRESH-INTERVAL;VALUE=DURATION:PT1H
X-Robots-Tag:noindex
X-PUBLISHED-TTL:PT1H
BEGIN:VTIMEZONE
TZID:America/New_York
BEGIN:DAYLIGHT
TZOFFSETFROM:-0500
TZOFFSETTO:-0400
TZNAME:EDT
DTSTART:20180311T070000
END:DAYLIGHT
BEGIN:STANDARD
TZOFFSETFROM:-0400
TZOFFSETTO:-0500
TZNAME:EST
DTSTART:20181104T060000
END:STANDARD
END:VTIMEZONE
BEGIN:VEVENT
DTSTART;TZID=America/New_York:20180313T183000
DTEND;TZID=America/New_York:20180313T193000
DTSTAMP:20260425T100121
CREATED:20180221T134420Z
LAST-MODIFIED:20180221T164825Z
UID:11534-1520965800-1520969400@treescharlotte.org
SUMMARY:TreeAmbassador Workshop\, March 2018
DESCRIPTION:What is a TreeAmbassador? \nA TreeAmbassador is a volunteer who is enthusiastic about TreesCharlotte and can deliver a positive and clear message about our mission. TreeAmbassadors represent TreesCharlotte at various outreach events.  Candidates should be comfortable both talking to an audience and listening to their comments and concerns. It will be your job to help educate the public about our beautiful canopy\, the risks facing it and how everybody can help protect it. \nWhat do TreeAmbassadors do? \nCandidates attend a 1-hour workshop where they will learn key talking points about TreesCharlotte and how to prepare for an outreach event. As public-facing opportunities arise\, we will equip you with an event box complete with key facts\, fun stuff to give away\, important literature and whatever else is required! \nWhat is the time commitment? \nTreeAmbassadors are asked to volunteer at a minimum of 3 outreach events annually (each about 3 hours). \nHow do I become a TreeAmbassador? \nYou must be at least 18 years of age and register by completing the application found here.
URL:https://treescharlotte.org/event/treeambassador-course-march-2018/
LOCATION:City of Charlotte Landscape Management\, 701 Tuckaseegee Road\, Charlotte\, NC\, 28208\, United States
CATEGORIES:TreeAmbassador Event
END:VEVENT
END:VCALENDAR