﻿BEGIN:VCALENDAR
VERSION:2.0
PRODID:-//TreesCharlotte - ECPv5.16.4//NONSGML v1.0//EN
CALSCALE:GREGORIAN
METHOD:PUBLISH
X-WR-CALNAME:TreesCharlotte
X-ORIGINAL-URL:https://treescharlotte.org
X-WR-CALDESC:Events for TreesCharlotte
REFRESH-INTERVAL;VALUE=DURATION:PT1H
X-Robots-Tag:noindex
X-PUBLISHED-TTL:PT1H
BEGIN:VTIMEZONE
TZID:America/New_York
BEGIN:DAYLIGHT
TZOFFSETFROM:-0500
TZOFFSETTO:-0400
TZNAME:EDT
DTSTART:20190310T070000
END:DAYLIGHT
BEGIN:STANDARD
TZOFFSETFROM:-0400
TZOFFSETTO:-0500
TZNAME:EST
DTSTART:20191103T060000
END:STANDARD
END:VTIMEZONE
BEGIN:VEVENT
DTSTART;VALUE=DATE:20190323
DTEND;VALUE=DATE:20190324
DTSTAMP:20260419T131228
CREATED:20181227T135504Z
LAST-MODIFIED:20190107T162540Z
UID:13750-1553299200-1553385599@treescharlotte.org
SUMMARY:33rd Annual Elizabeth 8k Road Race
DESCRIPTION:The Elizabeth 8K Road Race is Charlotte’s oldest road race and features a USATF-certified course (certificate NC18014DF)\, providing runners with a fantastic tour of the scenic residential and commercial streets of the Elizabeth neighborhood. In addition to the 8K\, there is also a 1.5M run/walk and the Liz Kids’ Fun Run for the youngest runners. \nThe Elizabeth 8K is an independent race\, organized by volunteers from the Elizabeth neighborhood. Proceeds benefit the Elizabeth Community Association\, the beautification of Elizabeth\, and the replenishing of tree canopies in the neighborhood and across the city.  A portion of net race proceeds go to TreesCharlotte. \nFor more information or to register for the event\, please visit www.elizabeth8k.com. \nA few seasoned TreeMasters are needed to help distribute trees to participants. \n\n  \n  \n  \n  \n \nphoto credits: Jim Dimitroff
URL:https://treescharlotte.org/event/33rd-annual-elizabeth-8k-road-race/
LOCATION:Hawthorne Recreation Center Independence Park\, 345 Hawthorne Lane\, Charlotte\, NC\, 28204\, United States
CATEGORIES:Community Event
END:VEVENT
END:VCALENDAR