﻿BEGIN:VCALENDAR
VERSION:2.0
PRODID:-//TreesCharlotte - ECPv5.16.4//NONSGML v1.0//EN
CALSCALE:GREGORIAN
METHOD:PUBLISH
X-WR-CALNAME:TreesCharlotte
X-ORIGINAL-URL:https://treescharlotte.org
X-WR-CALDESC:Events for TreesCharlotte
REFRESH-INTERVAL;VALUE=DURATION:PT1H
X-Robots-Tag:noindex
X-PUBLISHED-TTL:PT1H
BEGIN:VTIMEZONE
TZID:America/New_York
BEGIN:DAYLIGHT
TZOFFSETFROM:-0500
TZOFFSETTO:-0400
TZNAME:EDT
DTSTART:20210314T070000
END:DAYLIGHT
BEGIN:STANDARD
TZOFFSETFROM:-0400
TZOFFSETTO:-0500
TZNAME:EST
DTSTART:20211107T060000
END:STANDARD
END:VTIMEZONE
BEGIN:VEVENT
DTSTART;VALUE=DATE:20210220
DTEND;VALUE=DATE:20210221
DTSTAMP:20260421T110705
CREATED:20201211T180909Z
LAST-MODIFIED:20210216T160519Z
UID:18182-1613779200-1613865599@treescharlotte.org
SUMMARY:Randolph Middle School TreeDay
DESCRIPTION:While TreesCharlotte strives to celebrate\, expand\, and protect the tree canopy in Charlotte\, we also want to protect the health of our supporters\, volunteers\, and partners from risks associated with COVID-19.  We appreciate your continued interest in volunteering with us even in these difficult times. Please read through our new event protocols here before registering to volunteer. \nTreesCharlotte is excited to plant approximately 100 trees around the Randolph Middle School campus. \nTo ensure a safe and enjoyable event\, we are limiting the number of volunteers to 50 for this TreeDay.  Register early as our events “sell out” quickly.   0 spots remain. \nTree planting events are great for families and all ages are welcome. To ensure we operate within State and CDC guidelines\, we are limiting participation to 50 volunteers and are requiring a registration form for each volunteer\, adults and children alike. We cannot accept walk-up volunteers at the event. Children 16 and younger must be accompanied by an adult. \nVolunteer groups of 10 or more\, please contact events director\, Heike Biller to determine if there is enough capacity. \nEvents are held rain or shine. Details of the event will be emailed to registered volunteers the week of the event. \nDeadline to register is Sunday\, February 14.   \nThanks to all the TreeMasters that have registered\, we now have enough help and are just recruiting general volunteers.
URL:https://treescharlotte.org/event/randolph-middle-school-treeday/
LOCATION:Randolph Middle School\, 4400 Water Oak Road\, Charlotte\, NC\, 28211\, United States
CATEGORIES:Volunteer Project
END:VEVENT
BEGIN:VEVENT
DTSTART;TZID=America/New_York:20210220T100000
DTEND;TZID=America/New_York:20210220T113000
DTSTAMP:20260421T110705
CREATED:20201208T145708Z
LAST-MODIFIED:20210217T141212Z
UID:22490-1613815200-1613820600@treescharlotte.org
SUMMARY:Eastside ZipCode TreeStore - 28205\, 28212\, 28215\, 28227- NOW SOLD OUT!
DESCRIPTION:Excitement for this Zip Code TreeStore has been Tree-mendous and we are now “sold out” of trees.\nTreesCharlotte is excited to bring our Zip Code TreeStore to the Eastside.  We invite residents living in zip codes 28205\, 28212\, 28215\, and 28227 to come on out and get some trees at a Central United Methodist Church. \nTo ensure the event follows social distancing guidelines\, details are different from our typical TreeStores\, so read carefully: \nHere’s what you need to know:  \n\nYou must pre-register. Registration opens 10:00 am Tuesday\, Feb 9.  (link will be below available species) and closes when we “sell-out” of trees or at 11:59 pm Friday\, Feb 12. \nEach address within zip code 28205\, 28212\, 28215\, and 28227 can get up to 2 trees. While the registration form does not limit the total number of trees\, households requesting more than 2 trees will be notified and removed.\nA valid email address is required to register.\nThe event will be drive-thru only to limit personal contact. You will be expected to load your own trees and mulch.\nTo respect guidelines around large gatherings and to limit the number of registrants on-site at any one time\, we are implementing staggered pick up times.  On the registration form\, you will choose a time-frame to pick up your trees. \nAbout the trees: The trees are in 7-gallon containers\, measure 6-10 feet tall\, and weigh about 10-15 pounds. The mulch weighs 25 pounds/bag. Links to the species we are offering are provided below.  Please do your homework first to ensure you’re putting the right tree in the right place. Once registered\, selections are final and cannot be changed.\nTreesCharlotte will send a follow-up email with planting instructions – including a planting video – watering instructions and specific information about the species you select.\n\nTreesCharlotte is a non-profit organization that relies on donations to be able to host events like this.  Donations are greatly appreciated and help us give more trees to Charlotte residents. \nYou’ll be able to choose from the following trees when you register. Be sure to research which tree will work best for your yard before registering.  \nQuantities are limited. Register early to ensure the best selection. Selections are final and once registered\, cannot be changed.  \n\n \nCedar\, Japanese\n\n \nJapanese Cedar\n\n\n\n \nRedbud\n\n \nRedbud\n\n\n\n \nTulip Poplar\n\n \nPoplar\n\n\n\n \nBlack Gum\n\n \nBlack Gum\n\n\n\n \nYoshino Cherry\n\n \nCherry\n\n\n\n \nPrinceton Elm\n\n \nElm\n\n\n\n \nArborvitae\n\n \nArborvitae\n\n\n\n \nHickory\n\n \nHickory\n\n\n\n \nHolly\, Nellie Stevens\n\n \nHolly\n\n\n\n \nPlum\, Purple\n\n \nPlum\n\n\n\n \nSassafras\n\n \nSassafras\n\n\nRegistration will open Feb 9
URL:https://treescharlotte.org/event/east-zipcode-treestore-28205-28212-28215-28278/
LOCATION:Central United Methodist Church\, 6030 Albemarle Road\, Charlotte\, NC\, 28212
CATEGORIES:Community Event
END:VEVENT
END:VCALENDAR