﻿BEGIN:VCALENDAR
VERSION:2.0
PRODID:-//TreesCharlotte - ECPv5.16.4//NONSGML v1.0//EN
CALSCALE:GREGORIAN
METHOD:PUBLISH
X-WR-CALNAME:TreesCharlotte
X-ORIGINAL-URL:https://treescharlotte.org
X-WR-CALDESC:Events for TreesCharlotte
REFRESH-INTERVAL;VALUE=DURATION:PT1H
X-Robots-Tag:noindex
X-PUBLISHED-TTL:PT1H
BEGIN:VTIMEZONE
TZID:America/New_York
BEGIN:DAYLIGHT
TZOFFSETFROM:-0500
TZOFFSETTO:-0400
TZNAME:EDT
DTSTART:20200308T070000
END:DAYLIGHT
BEGIN:STANDARD
TZOFFSETFROM:-0400
TZOFFSETTO:-0500
TZNAME:EST
DTSTART:20201101T060000
END:STANDARD
END:VTIMEZONE
BEGIN:VEVENT
DTSTART;VALUE=DATE:20201010
DTEND;VALUE=DATE:20201011
DTSTAMP:20260421T173217
CREATED:20200825T144002Z
LAST-MODIFIED:20201005T133813Z
UID:18164-1602288000-1602374399@treescharlotte.org
SUMMARY:River Oaks Academy TreeDay
DESCRIPTION:While TreesCharlotte strives to celebrate\, expand\, and protect the tree canopy in Charlotte\, we also want to protect the health of our supporters\, volunteers\, and partners from risks associated with COVID-19.  We appreciate your continued interest in volunteering with us even in these difficult times. Please read through our new event protocols here before registering to volunteer. \nThanks to generous support from Accenture\, the NC Urban Forest Council’s Legacy Tree Fund and the Swinerton Foundation\, TreesCharlotte will be planting approximately 239 trees on the campus of River Oaks Academy. \nTo ensure a safe and enjoyable event\, we are limiting our recruitment to 80 volunteers. Register early as our events “sell out” quickly.  10 spots remain \nTree planting events are great for families and all ages are welcome. To ensure we operate within State and CDC guidelines\, we are limiting each 2-hour shift to 20 volunteers and are requiring a registration form for each volunteer\, regardless of age. We cannot accept walk-up volunteers at the event. Children 16 and younger must be accompanied by an adult. \nVolunteer groups of 10 or more\, please contact events director\, Heike Biller to determine if there is enough capacity. \nEvents are held rain or shine. Details of the event will be emailed to registered volunteers the week of the event. \nDeadline to register to volunteer is Sunday\, October 4.   \nThank you to all the TreeMasters that registered to help.  We are now seeking volunteers only.
URL:https://treescharlotte.org/event/river-oaks-academy-treeday/
LOCATION:River Oaks Academy\, Charlotte\, NC\, 28214\, United States
CATEGORIES:Volunteer Project
END:VEVENT
END:VCALENDAR