﻿BEGIN:VCALENDAR
VERSION:2.0
PRODID:-//TreesCharlotte - ECPv5.16.4//NONSGML v1.0//EN
CALSCALE:GREGORIAN
METHOD:PUBLISH
X-WR-CALNAME:TreesCharlotte
X-ORIGINAL-URL:https://treescharlotte.org
X-WR-CALDESC:Events for TreesCharlotte
REFRESH-INTERVAL;VALUE=DURATION:PT1H
X-Robots-Tag:noindex
X-PUBLISHED-TTL:PT1H
BEGIN:VTIMEZONE
TZID:America/New_York
BEGIN:DAYLIGHT
TZOFFSETFROM:-0500
TZOFFSETTO:-0400
TZNAME:EDT
DTSTART:20200308T070000
END:DAYLIGHT
BEGIN:STANDARD
TZOFFSETFROM:-0400
TZOFFSETTO:-0500
TZNAME:EST
DTSTART:20201101T060000
END:STANDARD
END:VTIMEZONE
BEGIN:VEVENT
DTSTART;TZID=America/New_York:20200914T173000
DTEND;TZID=America/New_York:20200914T183000
DTSTAMP:20260421T191459
CREATED:20200904T021458Z
LAST-MODIFIED:20200909T152737Z
UID:20165-1600104600-1600108200@treescharlotte.org
SUMMARY:Ask the Arborist: TreeStore edition
DESCRIPTION:If you plan to register for either the First Timers TreeStore or the Season Opener Citywide TreeStore\, we have an easy way to learn more about the trees we’ll be offering at both: Ask the Arborist on Zoom! \nJoin TreesCharlotte Community Tree Educator Kate Bolkin and Assistant City Arborist Laurie Dukes as they walk through the species we’ll be offering and then answer your questions about getting the right tree for your home!  \n(If you can’t make it for the Live version\, we’ll record it and post it right after!)
URL:https://treescharlotte.org/event/ask-the-arborist-live-on-zoom-2/
CATEGORIES:Educational Event
ATTACH;FMTTYPE=image/jpeg:https://treescharlotte.org/wp-content/uploads/2020/09/Kate-and-Laurie.jpg
END:VEVENT
END:VCALENDAR