﻿BEGIN:VCALENDAR
VERSION:2.0
PRODID:-//TreesCharlotte - ECPv5.16.4//NONSGML v1.0//EN
CALSCALE:GREGORIAN
METHOD:PUBLISH
X-ORIGINAL-URL:https://treescharlotte.org
X-WR-CALDESC:Events for TreesCharlotte
REFRESH-INTERVAL;VALUE=DURATION:PT1H
X-Robots-Tag:noindex
X-PUBLISHED-TTL:PT1H
BEGIN:VTIMEZONE
TZID:America/New_York
BEGIN:DAYLIGHT
TZOFFSETFROM:-0500
TZOFFSETTO:-0400
TZNAME:EDT
DTSTART:20200308T070000
END:DAYLIGHT
BEGIN:STANDARD
TZOFFSETFROM:-0400
TZOFFSETTO:-0500
TZNAME:EST
DTSTART:20201101T060000
END:STANDARD
END:VTIMEZONE
BEGIN:VEVENT
DTSTART;VALUE=DATE:20200424
DTEND;VALUE=DATE:20200425
DTSTAMP:20260422T123344
CREATED:20200413T212033Z
LAST-MODIFIED:20200422T134810Z
UID:17737-1587686400-1587772799@treescharlotte.org
SUMMARY:Earth Day CLT: Takeout and a Tree!
DESCRIPTION:Looking to celebrate the 50th Anniversary of Earth Day in a big way\, Charlotte? During Earth Week\, TreesCharlotte is partnering with a variety of local restaurants and breweries to give away free seedlings when you pick up takeout from their curbside/call-ahead services! \nThese young trees are all natives\, and they can’t wait to find that perfect spot in your yard to grow\, add shade\, provide wildlife habitat\, clean the air and water and bring you decades of happiness! \nWe are especially excited to partner with local restaurants and breweries. By getting a seedling\, you are both adding canopy to Charlotte\, as well as supporting the CLT economy. \nThe seedling giveaways begin April 20 and will continue until inventory runs out. \nParticipating breweries and restaurants\nPlease call ahead for days/hours of operation \nAmelie’s French Bakery: NoDa\, Park Road and Carmel Commons locations \nBirdsong Brewing Co. \nBrixx Pizza: Dilworth\, Foxcroft and Blakeney locations \nLegion Brewing: Plaza-Midwood (starting Tuesday) and SouthPark (starting Wednesday) locations. \nNoDa Brewing: Starting Tuesday \nThe Olde Mecklenburg Brewery \nSabor:  NoDa\, Southend and SouthPark locations \nThe Unknown Brewing Company: Starting Wednesday \nWooden Robot: SouthEnd location \n 
URL:https://treescharlotte.org/event/earth-day-clt-takeout-and-a-tree-4/
CATEGORIES:Community Event
ATTACH;FMTTYPE=image/png:https://treescharlotte.org/wp-content/uploads/2020/04/Earth-Day-CLT-3-1.png
END:VEVENT
BEGIN:VEVENT
DTSTART;TZID=America/New_York:20200424T160000
DTEND;TZID=America/New_York:20200424T173000
DTSTAMP:20260422T123345
CREATED:20200417T202020Z
LAST-MODIFIED:20200420T145239Z
UID:17754-1587744000-1587749400@treescharlotte.org
SUMMARY:Park Crossing Drive-thru TreeStore
DESCRIPTION:Park Crossing\, are you ready for some trees? Thanks to our partnership with LendingTree\, Charlotte 2020 Host Committee and 2020 Convention Planners\, we are excited to bring our TreeStore to Park Crossing. We will drop off trees directly to your neighborhood on Friday\, April 24\, for residents to pick up and plant in their own yards! What a great way to add more shade and beauty to your neighborhood. \nIf you’re interested\, here’s what you need to know: \n\nEach household can get up to 3 trees\, with a limit of 2 trees per species.\nYou must pre-register for trees. Registration opens at 8 a.m on Sunday\, April 19 and closes at 9 a.m. on Wednesday\, April 22.\nCost is $10/tree (plus fees). Each tree comes with a bag of mulch.\nYou will need to pick up your trees at the Park Crossing Swim and Racquet Club\,10201 Park Crossing Dr\, on Friday\, April 24\, between 4-5:30 p.m. This will be a largely drive-through event to limit personal contact. You will be expected to load your own trees and mulch\, but there will be a few volunteers available to help if you need assistance. Please have your car prepared to take the trees (trunk ready\, seats down\, plastic/blanket laid out\, etc.) to make the process as quick and social distance-friendly as possible. You will get a reminder email about this pickup event. If you cannot make this window\, please make arrangements with a neighbor to get your trees.\nAbout the trees: The trees are in 7-gallon containers\, measure 6-15 feet tall and weigh about 20-25 pounds. The mulch weighs 25 pounds/bag. As you’ll see in the registration form\, you have 9 species to choose from. Links are provided below to learn more about each species; please do your homework first to ensure you’re putting the right tree in the right place.\nTreesCharlotte will send a follow-up email with planting instructions – including a planting video – watering instructions and specific information about the species you select. Tree planting is not provided.\n\nYou’ll be able to choose from the following trees when you register (registration link below). Quantities are limited. Register early to ensure the best selection. \n\n \nShawnee Brave Bald Cypress\n\n \nBald Cypress\n\n\n\n \nBosque Elm\n\n \nElm\, Bosque\n\n\n\n \nNuttall Oak\n\n \nOak\, Nuttall\n\n\n\n \nSwamp White Oak\n\n \nOak\, Swamp White\n\n\n\n \nWillow Oak\n\n \nOak\, Willow\n\n\n\n \nSun Valley Red Maple\n\n \nSun Valley Red Maple\n\n\n\n \nSassafrass\n\n \nSassafrass\n\n\n\n \nExclamation Sycamore\n\n \nSycamore\n\n\n\n \nYellowwood\n\n \nYellowwood\n\n\nClick Here to Register\n 
URL:https://treescharlotte.org/event/park-crossing-treestore/
LOCATION:Park Crossing Swim and Racquet Club\, 10201 Park Crossing Dr.\, Charlotte\, NC\, 28210
END:VEVENT
END:VCALENDAR