﻿BEGIN:VCALENDAR
VERSION:2.0
PRODID:-//TreesCharlotte - ECPv5.16.4//NONSGML v1.0//EN
CALSCALE:GREGORIAN
METHOD:PUBLISH
X-ORIGINAL-URL:https://treescharlotte.org
X-WR-CALDESC:Events for TreesCharlotte
REFRESH-INTERVAL;VALUE=DURATION:PT1H
X-Robots-Tag:noindex
X-PUBLISHED-TTL:PT1H
BEGIN:VTIMEZONE
TZID:America/New_York
BEGIN:DAYLIGHT
TZOFFSETFROM:-0500
TZOFFSETTO:-0400
TZNAME:EDT
DTSTART:20200308T070000
END:DAYLIGHT
BEGIN:STANDARD
TZOFFSETFROM:-0400
TZOFFSETTO:-0500
TZNAME:EST
DTSTART:20201101T060000
END:STANDARD
END:VTIMEZONE
BEGIN:VEVENT
DTSTART;TZID=America/New_York:20200303T123000
DTEND;TZID=America/New_York:20200303T163000
DTSTAMP:20260423T053147
CREATED:20200131T222724Z
LAST-MODIFIED:20200131T222724Z
UID:16963-1583238600-1583253000@treescharlotte.org
SUMMARY:TreeAmbassador event: Seedling packing at CPCC-Cato Campus
DESCRIPTION:We’re looking for TreeMasters/TreeAmbassadors who can help run a seedling packing event at the Cato Campus of CPCC. This event can get wet and muddy\, so be prepared to get dirty! \nNote: We love our volunteers\, but this event is limited to TreeAmbassadors/TreeMasters.
URL:https://treescharlotte.org/event/treeambassador-event-seedling-packing-at-cpcc-cato-campus/
LOCATION:CPCC Cato Campus\, 8120 Grier Road\, Charlotte\, NC\, 28215
END:VEVENT
END:VCALENDAR