﻿BEGIN:VCALENDAR
VERSION:2.0
PRODID:-//TreesCharlotte - ECPv5.16.4//NONSGML v1.0//EN
CALSCALE:GREGORIAN
METHOD:PUBLISH
X-ORIGINAL-URL:https://treescharlotte.org
X-WR-CALDESC:Events for TreesCharlotte
REFRESH-INTERVAL;VALUE=DURATION:PT1H
X-Robots-Tag:noindex
X-PUBLISHED-TTL:PT1H
BEGIN:VTIMEZONE
TZID:America/New_York
BEGIN:DAYLIGHT
TZOFFSETFROM:-0500
TZOFFSETTO:-0400
TZNAME:EDT
DTSTART:20190310T070000
END:DAYLIGHT
BEGIN:STANDARD
TZOFFSETFROM:-0400
TZOFFSETTO:-0500
TZNAME:EST
DTSTART:20191103T060000
END:STANDARD
END:VTIMEZONE
BEGIN:VEVENT
DTSTART;TZID=America/New_York:20191026T090000
DTEND;TZID=America/New_York:20191026T110000
DTSTAMP:20260423T230819
CREATED:20190809T141357Z
LAST-MODIFIED:20191024T150421Z
UID:14962-1572080400-1572087600@treescharlotte.org
SUMMARY:West Side Zip Code TreeStore
DESCRIPTION:Thanks to the generous support of Coca-Cola Consolidated\, we invite residents who live in the 28208\, 28214\, 28216\, 28217\, 28273 or 28278 zip codes to our West Side Zip Code TreeStore! If you’re a resident of any of these zip codes\, pre-register and help make the West Side one of the best-canopy’d communities in the Queen City. We plan to give out 300 trees on a first come first served basis. \n\nEach address within zip code 28208\, 28214\, 28216\, 28217\, 28273 or 28278 is eligible for up to two free trees.  Limit 2 trees per address.\nProof of zip code residency (such as a driver’s license\, utility bill\, etc.) must be shown at the event in order to participate.\nA valid email address is required to register.\nYou will sign a Stewardship Pledge Form (mandatory) and declare your pledge to take care of the tree(s) we provide.\nAt the TreeStore\, you will be taught how to properly plant and care for your tree(s).  Tree training is mandatory.\nWe cannot guarantee species type or quantities and will not know what will be available until the morning of the event.\nTrees are in 7-gallon containers\, range from 6-10′ tall\, and will not be reserved or transported.\n\nTreesCharlotte is a non-profit organization that relies on donations to be able to host events like this.  A suggested donation of $20 is greatly appreciated and would help us give more trees to Charlotte residents. \nPre-registration is closed but walk-ups are welcome! All trees are first-come\, first-served\, regardless of registration status.
URL:https://treescharlotte.org/event/west-side-zip-code-treestore/
LOCATION:Friendship Missionary Baptist Church\, 3400 Beatties Ford Road\, Charlotte\, NC\, 28216\, United States
CATEGORIES:Community Event
END:VEVENT
BEGIN:VEVENT
DTSTART;TZID=America/New_York:20191026T100000
DTEND;TZID=America/New_York:20191026T120000
DTSTAMP:20260423T230819
CREATED:20190809T163636Z
LAST-MODIFIED:20191010T174921Z
UID:15205-1572084000-1572091200@treescharlotte.org
SUMMARY:Nevin Glen NeighborWoods Event
DESCRIPTION:Having completed a NeighborWoods Application and been accepted into the program\, TreesCharlotte is pleased to be partnering with the Nevin Glen neighborhood to plant trees in their common areas and distribute free trees to residents of the neighborhood. We thank Wells Fargo for their generous support of our NeighborWoods events. \nPre-registration for trees is required by clicking here. You must be a resident of Nevin Glen.  Deadline to register is Sunday\, Oct. 20. \nThe location of the event is yet to be determined and will be updated once it has been confirmed.  The tree give away portion of the day will run from 10:00-11:00. \nResidents of Nevin Glen are invited to come out\, learn about trees and take up to 2 home to plant. At the event\, you will be trained on how to properly plant and care for your tree(s).  Tree training is mandatory.  You will then be asked to complete and sign a Stewardship Pledge Form and declare your pledge to take care of the tree(s) we provide. \nWe cannot guarantee species type or quantities.  Trees are 6-10′ tall\, and will not be reserved or transported.  This is a first come\, first served event. \nEvents are held rain or shine.  A modest rainfall actually provides ideal planting conditions. \nVolunteers Needed!\nA few volunteers and TreeMasters are needed to help plant trees and to help with tree and mulch distribution.  The tree planting portion of this event will be from 10:30-noon. \nTo ensure a safe and enjoyable event\, we are limiting the number of volunteers to 20 for this TreeDay. Register early as our events “sell out” quickly.  11 spots remain  \nTree planting events are great for families and everyone is welcome. To ensure accurate active volunteer counts\, please list all participants on the registration form\, along with children’s ages. Children 16 and younger must be accompanied by an adult. \nDeadline to register to volunteer is October 20. Click here to volunteer. \nOnce registered\, more detailed information will be emailed to you the week of the event.
URL:https://treescharlotte.org/event/nevin-glen-neighborwoods-event/
CATEGORIES:Volunteer Project
END:VEVENT
END:VCALENDAR