﻿BEGIN:VCALENDAR
VERSION:2.0
PRODID:-//TreesCharlotte - ECPv5.16.4//NONSGML v1.0//EN
CALSCALE:GREGORIAN
METHOD:PUBLISH
X-ORIGINAL-URL:https://treescharlotte.org
X-WR-CALDESC:Events for TreesCharlotte
REFRESH-INTERVAL;VALUE=DURATION:PT1H
X-Robots-Tag:noindex
X-PUBLISHED-TTL:PT1H
BEGIN:VTIMEZONE
TZID:America/New_York
BEGIN:DAYLIGHT
TZOFFSETFROM:-0500
TZOFFSETTO:-0400
TZNAME:EDT
DTSTART:20190310T070000
END:DAYLIGHT
BEGIN:STANDARD
TZOFFSETFROM:-0400
TZOFFSETTO:-0500
TZNAME:EST
DTSTART:20191103T060000
END:STANDARD
END:VTIMEZONE
BEGIN:VEVENT
DTSTART;TZID=America/New_York:20190501T100000
DTEND;TZID=America/New_York:20190501T150000
DTSTAMP:20260424T120329
CREATED:20190419T174702Z
LAST-MODIFIED:20190419T174702Z
UID:14712-1556704800-1556722800@treescharlotte.org
SUMMARY:Meet TreesCharlotte: Education Day with the Knights!
DESCRIPTION:Enjoy a day baseball game AND learn about local non-profits in Charlotte\, including TreesCharlotte! Sponsored by Duke Energy\, Education Day at the Knights will feature interactive tables throughout the concourse. TreesCharlotte will be there with tree trivia and tree cookie necklaces! \nFirst pitch is at 11:05 a.m.\, but we’ll be there ready to go by 9:30 a.m.!
URL:https://treescharlotte.org/event/meet-treescharlotte-education-day-with-the-knights/
LOCATION:BB&T Ballpark\, 324 South Mint Street\, Charlotte\, NC\, 28202\, United States
CATEGORIES:TreeAmbassador Event
END:VEVENT
END:VCALENDAR