﻿BEGIN:VCALENDAR
VERSION:2.0
PRODID:-//TreesCharlotte - ECPv5.16.4//NONSGML v1.0//EN
CALSCALE:GREGORIAN
METHOD:PUBLISH
X-ORIGINAL-URL:https://treescharlotte.org
X-WR-CALDESC:Events for TreesCharlotte
REFRESH-INTERVAL;VALUE=DURATION:PT1H
X-Robots-Tag:noindex
X-PUBLISHED-TTL:PT1H
BEGIN:VTIMEZONE
TZID:America/New_York
BEGIN:DAYLIGHT
TZOFFSETFROM:-0500
TZOFFSETTO:-0400
TZNAME:EDT
DTSTART:20190310T070000
END:DAYLIGHT
BEGIN:STANDARD
TZOFFSETFROM:-0400
TZOFFSETTO:-0500
TZNAME:EST
DTSTART:20191103T060000
END:STANDARD
END:VTIMEZONE
BEGIN:VEVENT
DTSTART;TZID=America/New_York:20190422T110000
DTEND;TZID=America/New_York:20190422T130000
DTSTAMP:20260424T170030
CREATED:20190408T171709Z
LAST-MODIFIED:20190415T122724Z
UID:14644-1555930800-1555938000@treescharlotte.org
SUMMARY:Ingersoll Rand Employee Earth Day Event
DESCRIPTION:On this Earth Day Ingersoll Rand is promoting to its employees that small changes can make a big impact. With sustainability at the core of the company’s focus\, it wants to encourage employees to get involved with local non-profits\, NGOs and government entities that support and conserve our natural resources as well as shop with local businesses to reduce their carbon footprint. \nAs TreeAmbassador\, you’ll give away seedlings and do tree trivia with employees. \nOops! We could not locate your form.
URL:https://treescharlotte.org/event/ingersoll-rand-employee-earth-day-event/
END:VEVENT
END:VCALENDAR