﻿BEGIN:VCALENDAR
VERSION:2.0
PRODID:-//TreesCharlotte - ECPv5.16.4//NONSGML v1.0//EN
CALSCALE:GREGORIAN
METHOD:PUBLISH
X-ORIGINAL-URL:https://treescharlotte.org
X-WR-CALDESC:Events for TreesCharlotte
REFRESH-INTERVAL;VALUE=DURATION:PT1H
X-Robots-Tag:noindex
X-PUBLISHED-TTL:PT1H
BEGIN:VTIMEZONE
TZID:America/New_York
BEGIN:DAYLIGHT
TZOFFSETFROM:-0500
TZOFFSETTO:-0400
TZNAME:EDT
DTSTART:20190310T070000
END:DAYLIGHT
BEGIN:STANDARD
TZOFFSETFROM:-0400
TZOFFSETTO:-0500
TZNAME:EST
DTSTART:20191103T060000
END:STANDARD
END:VTIMEZONE
BEGIN:VEVENT
DTSTART;TZID=America/New_York:20190416T110000
DTEND;TZID=America/New_York:20190416T130000
DTSTAMP:20260424T170028
CREATED:20190326T013059Z
LAST-MODIFIED:20190326T014203Z
UID:14564-1555412400-1555419600@treescharlotte.org
SUMMARY:Meet TreesCharlotte: Gateway Village Earth Day Celebration
DESCRIPTION:Celebrate Earth Month at Gateway Village and TreesCharlotte. We’ll join other non-profits in the Promenade and give away seedlings! \nOops! We could not locate your form.
URL:https://treescharlotte.org/event/meet-treescharlotte-gateway-village-earth-day-celebration/
LOCATION:Gateway Village Promenade\, 900 Trade Street\, Charlotte\, NC\, 28202\, United States
END:VEVENT
END:VCALENDAR